BEGIN:VCALENDAR
VERSION:2.0
PRODID:-//Mount Zion Parish - ECPv6.15.18//NONSGML v1.0//EN
CALSCALE:GREGORIAN
METHOD:PUBLISH
X-WR-CALNAME:Mount Zion Parish
X-ORIGINAL-URL:https://rccgmountzion.org
X-WR-CALDESC:Events for Mount Zion Parish
REFRESH-INTERVAL;VALUE=DURATION:PT1H
X-Robots-Tag:noindex
X-PUBLISHED-TTL:PT1H
BEGIN:VTIMEZONE
TZID:UTC
BEGIN:STANDARD
TZOFFSETFROM:+0000
TZOFFSETTO:+0000
TZNAME:UTC
DTSTART:20240101T000000
END:STANDARD
END:VTIMEZONE
BEGIN:VEVENT
DTSTART;TZID=UTC:20250131T080000
DTEND;TZID=UTC:20250202T170000
DTSTAMP:20260424T094321
CREATED:20250116T130354Z
LAST-MODIFIED:20250116T132148Z
UID:1445-1738310400-1738515600@rccgmountzion.org
SUMMARY:The Love Conference
DESCRIPTION:Join Us for Love Conference 2025 – Crazy Love!\n\n📅 Dates: January 31st – February 2nd\, 2025 \nFeaturing Pastor Kingsley & Pastor Mildred Okonkwo\, renowned relationship coaches\, and authors\, this conference is for singles\, couples\, and families seeking to strengthen relationships and experience God’s love like never before. \nHighlights: \n\nOpening Night (Jan. 31st)\nSingles Conference & Evening Dinner (Feb. 1st)\nGrand Finale (Feb. 2nd)\n\nDon’t miss this life-changing event! Come and grow in Crazy Love! ❤️ \n\nSave the Date: Daughters of Zion Night Vigil
URL:https://rccgmountzion.org/event/the-love-conference/
ATTACH;FMTTYPE=image/jpeg:https://rccgmountzion.org/wp-content/uploads/2025/01/69fd107c-4fc1-4172-aee1-ac065ecfe6a4.jpeg
END:VEVENT
BEGIN:VEVENT
DTSTART;VALUE=DATE:20250226
DTEND;VALUE=DATE:20250227
DTSTAMP:20260424T094321
CREATED:20250220T084101Z
LAST-MODIFIED:20250220T102233Z
UID:1461-1740528000-1740614399@rccgmountzion.org
SUMMARY:Oasis - Sharing is Caring
DESCRIPTION:At Mount Zion\, we believe in the power of generosity and community! Join us every last Wednesday for “Sharing is Caring” at Oasis! Together\, we can make a difference by sharing love\, food\, and resources with those around us. \n📅 When: Every Last Wednesday of the Month\n🕖 Time: 7:00 PM \nLet’s come together to experience God through acts of kindness and fellowship.
URL:https://rccgmountzion.org/event/oasis-sharing-is-caring/
ATTACH;FMTTYPE=image/jpeg:https://rccgmountzion.org/wp-content/uploads/2025/02/Sharing-is-caring-Oasis.jpg
END:VEVENT
BEGIN:VEVENT
DTSTART;VALUE=DATE:20250226
DTEND;VALUE=DATE:20250227
DTSTAMP:20260424T094321
CREATED:20250220T094159Z
LAST-MODIFIED:20250220T102111Z
UID:1464-1740528000-1740614399@rccgmountzion.org
SUMMARY:Oasis - Wealth Education Night - Ideas Rule the World 2025
DESCRIPTION:Theme: Investment Strategies\n📅 Date: Wednesday\, February 26th\, 2025\n⏰ Time: 7:00 PM \nAre you ready to unlock financial wisdom and take control of your future? Join us for a powerful Wealth Education Service at Oasis\, where we’ll explore investment strategies that can transform your financial journey. \n🎤 Guest Speaker: Segun Ore\, Drems Realty – Gain expert insights and practical steps to grow your wealth and maximize your potential!
URL:https://rccgmountzion.org/event/oasis-wealth-education-night-ideas-rule-the-world-2025/
ATTACH;FMTTYPE=image/jpeg:https://rccgmountzion.org/wp-content/uploads/2025/02/1000092123.jpg
END:VEVENT
BEGIN:VEVENT
DTSTART;VALUE=DATE:20250228
DTEND;VALUE=DATE:20250301
DTSTAMP:20260424T094321
CREATED:20250116T120223Z
LAST-MODIFIED:20250116T132040Z
UID:1448-1740700800-1740787199@rccgmountzion.org
SUMMARY:Ladies\, get ready for a night of praise\, worship\, prayers\, testimonies\, and fun at our Daughters of Zion Night Vigil!
DESCRIPTION:Date: Friday\, February 28th\, 2025 \nCome experience the power of God\, share your testimonies\, and connect with other women in faith. Stay tuned for more details. Don’t miss this special night!
URL:https://rccgmountzion.org/event/ladies-get-ready-for-a-night-of-praise-worship-prayers-testimonies-and-fun-at-our-daughters-of-zion-night-vigil/
ATTACH;FMTTYPE=image/jpeg:https://rccgmountzion.org/wp-content/uploads/2025/01/WhatsApp-Image-2025-01-07-at-22.14.01_df40b8f0.jpg
END:VEVENT
BEGIN:VEVENT
DTSTART;VALUE=DATE:20250228
DTEND;VALUE=DATE:20250301
DTSTAMP:20260424T094321
CREATED:20250220T082755Z
LAST-MODIFIED:20250220T102150Z
UID:1458-1740700800-1740787199@rccgmountzion.org
SUMMARY:KICON Pajama & Movie Night!
DESCRIPTION:Hey parents and kids! Get ready for a fun-filled night at KICON’s Pajama & Movie Night! \n📅 Date: Friday\, February 28th\, 2025\n🕙 Time: 10:00 PM – 1:00 AM\n📍 Location: KICON Large Room Upstairs\n🎞 Movie: Question of Faith\n 👧🏽👦🏽 Ages: Open to children 6-12 years old \nCome dressed in your coziest pajamas\, bring your favorite blanket\, and enjoy a great movie with friends!
URL:https://rccgmountzion.org/event/kicon-pajama-movie-night/
ATTACH;FMTTYPE=image/jpeg:https://rccgmountzion.org/wp-content/uploads/2025/02/KICON-Pajama-Party.jpg
END:VEVENT
END:VCALENDAR