BEGIN:VCALENDAR
VERSION:2.0
PRODID:-//Mount Zion Parish - ECPv6.15.18//NONSGML v1.0//EN
CALSCALE:GREGORIAN
METHOD:PUBLISH
X-WR-CALNAME:Mount Zion Parish
X-ORIGINAL-URL:https://rccgmountzion.org
X-WR-CALDESC:Events for Mount Zion Parish
REFRESH-INTERVAL;VALUE=DURATION:PT1H
X-Robots-Tag:noindex
X-PUBLISHED-TTL:PT1H
BEGIN:VTIMEZONE
TZID:UTC
BEGIN:STANDARD
TZOFFSETFROM:+0000
TZOFFSETTO:+0000
TZNAME:UTC
DTSTART:20230101T000000
END:STANDARD
END:VTIMEZONE
BEGIN:VEVENT
DTSTART;VALUE=DATE:20241201
DTEND;VALUE=DATE:20241202
DTSTAMP:20260424T122138
CREATED:20240122T134344Z
LAST-MODIFIED:20240122T134344Z
UID:1377-1733011200-1733097599@rccgmountzion.org
SUMMARY:WRECKED SHIP? Acts 27:20 NLT
DESCRIPTION:
URL:https://rccgmountzion.org/event/wrecked-ship-acts-2720-nlt/
END:VEVENT
BEGIN:VEVENT
DTSTART;VALUE=DATE:20241204
DTEND;VALUE=DATE:20241205
DTSTAMP:20260424T122138
CREATED:20240122T134406Z
LAST-MODIFIED:20240122T134406Z
UID:1379-1733270400-1733356799@rccgmountzion.org
SUMMARY:Communion @ Oasis
DESCRIPTION:
URL:https://rccgmountzion.org/event/communion-oasis-22/
END:VEVENT
BEGIN:VEVENT
DTSTART;VALUE=DATE:20241208
DTEND;VALUE=DATE:20241209
DTSTAMP:20260424T122138
CREATED:20240122T134432Z
LAST-MODIFIED:20240122T134432Z
UID:1381-1733616000-1733702399@rccgmountzion.org
SUMMARY:KEEP HOPE ALIVE John 11:33 NIV  Evangelism
DESCRIPTION:
URL:https://rccgmountzion.org/event/keep-hope-alive-john-1133-niv-evangelism/
END:VEVENT
BEGIN:VEVENT
DTSTART;VALUE=DATE:20241215
DTEND;VALUE=DATE:20241216
DTSTAMP:20260424T122138
CREATED:20240122T134455Z
LAST-MODIFIED:20240122T134455Z
UID:1383-1734220800-1734307199@rccgmountzion.org
SUMMARY:FTDF
DESCRIPTION:
URL:https://rccgmountzion.org/event/ftdf-14/
END:VEVENT
BEGIN:VEVENT
DTSTART;VALUE=DATE:20241220
DTEND;VALUE=DATE:20241221
DTSTAMP:20260424T122138
CREATED:20240122T134520Z
LAST-MODIFIED:20240122T134520Z
UID:1385-1734652800-1734739199@rccgmountzion.org
SUMMARY:Christmas in Lake-city
DESCRIPTION:
URL:https://rccgmountzion.org/event/christmas-in-lake-city-2/
END:VEVENT
BEGIN:VEVENT
DTSTART;VALUE=DATE:20241222
DTEND;VALUE=DATE:20241223
DTSTAMP:20260424T122138
CREATED:20240122T134547Z
LAST-MODIFIED:20240122T134547Z
UID:1387-1734825600-1734911999@rccgmountzion.org
SUMMARY:UNSHAKEABLE Psalm 112:6 NIV
DESCRIPTION:
URL:https://rccgmountzion.org/event/unshakeable-psalm-1126-niv/
END:VEVENT
BEGIN:VEVENT
DTSTART;VALUE=DATE:20241225
DTEND;VALUE=DATE:20241226
DTSTAMP:20260424T122138
CREATED:20240122T134609Z
LAST-MODIFIED:20240122T134609Z
UID:1389-1735084800-1735171199@rccgmountzion.org
SUMMARY:Christmas
DESCRIPTION:
URL:https://rccgmountzion.org/event/christmas-2/
END:VEVENT
BEGIN:VEVENT
DTSTART;VALUE=DATE:20241229
DTEND;VALUE=DATE:20241230
DTSTAMP:20260424T122138
CREATED:20240122T134634Z
LAST-MODIFIED:20240122T134634Z
UID:1391-1735430400-1735516799@rccgmountzion.org
SUMMARY:HOW TO END THE YEAR Psalm 32:7; James 5:13
DESCRIPTION:
URL:https://rccgmountzion.org/event/how-to-end-the-year-psalm-327-james-513/
END:VEVENT
BEGIN:VEVENT
DTSTART;VALUE=DATE:20241231
DTEND;VALUE=DATE:20250101
DTSTAMP:20260424T122138
CREATED:20240122T134703Z
LAST-MODIFIED:20241223T115415Z
UID:1393-1735603200-1735689599@rccgmountzion.org
SUMMARY:CROSSOVER SERVICE
DESCRIPTION:
URL:https://rccgmountzion.org/event/crossover-service-2/
END:VEVENT
END:VCALENDAR