BEGIN:VCALENDAR
VERSION:2.0
PRODID:-//Mount Zion Parish - ECPv6.15.18//NONSGML v1.0//EN
CALSCALE:GREGORIAN
METHOD:PUBLISH
X-WR-CALNAME:Mount Zion Parish
X-ORIGINAL-URL:https://rccgmountzion.org
X-WR-CALDESC:Events for Mount Zion Parish
REFRESH-INTERVAL;VALUE=DURATION:PT1H
X-Robots-Tag:noindex
X-PUBLISHED-TTL:PT1H
BEGIN:VTIMEZONE
TZID:UTC
BEGIN:STANDARD
TZOFFSETFROM:+0000
TZOFFSETTO:+0000
TZNAME:UTC
DTSTART:20220101T000000
END:STANDARD
END:VTIMEZONE
BEGIN:VEVENT
DTSTART;VALUE=DATE:20240303
DTEND;VALUE=DATE:20240304
DTSTAMP:20260425T120521
CREATED:20240122T104058Z
LAST-MODIFIED:20240122T104058Z
UID:1224-1709424000-1709510399@rccgmountzion.org
SUMMARY:MAKE ROOM FOR GOD 2 Kings 4:8 NLT
DESCRIPTION:
URL:https://rccgmountzion.org/event/make-room-for-god-2-kings-48-nlt/
END:VEVENT
BEGIN:VEVENT
DTSTART;VALUE=DATE:20240225
DTEND;VALUE=DATE:20240226
DTSTAMP:20260425T120521
CREATED:20240122T103529Z
LAST-MODIFIED:20240122T103856Z
UID:1222-1708819200-1708905599@rccgmountzion.org
SUMMARY:KNOCKING – Learning to pray for others Genesis 25:21a
DESCRIPTION:
URL:https://rccgmountzion.org/event/knocking-learning-to-pray-for-others-genesis-2521a/
END:VEVENT
BEGIN:VEVENT
DTSTART;VALUE=DATE:20240224
DTEND;VALUE=DATE:20240225
DTSTAMP:20260425T120521
CREATED:20240122T103458Z
LAST-MODIFIED:20240122T103458Z
UID:1220-1708732800-1708819199@rccgmountzion.org
SUMMARY:MOV BREAKFAST
DESCRIPTION:
URL:https://rccgmountzion.org/event/mov-breakfast/
END:VEVENT
BEGIN:VEVENT
DTSTART;VALUE=DATE:20240219
DTEND;VALUE=DATE:20240220
DTSTAMP:20260425T120521
CREATED:20240122T103423Z
LAST-MODIFIED:20240122T103423Z
UID:1218-1708300800-1708387199@rccgmountzion.org
SUMMARY:Presidents' Day
DESCRIPTION:
URL:https://rccgmountzion.org/event/presidents-day-3/
END:VEVENT
BEGIN:VEVENT
DTSTART;VALUE=DATE:20240218
DTEND;VALUE=DATE:20240219
DTSTAMP:20260425T120521
CREATED:20240122T103352Z
LAST-MODIFIED:20240122T103352Z
UID:1216-1708214400-1708300799@rccgmountzion.org
SUMMARY:Evangelism  FTDF
DESCRIPTION:
URL:https://rccgmountzion.org/event/evangelism-ftdf/
END:VEVENT
BEGIN:VEVENT
DTSTART;VALUE=DATE:20240217
DTEND;VALUE=DATE:20240218
DTSTAMP:20260425T120521
CREATED:20240122T103324Z
LAST-MODIFIED:20240122T103324Z
UID:1214-1708128000-1708214399@rccgmountzion.org
SUMMARY:Community event Sunday School Review
DESCRIPTION:
URL:https://rccgmountzion.org/event/community-event-sunday-school-review/
END:VEVENT
BEGIN:VEVENT
DTSTART;VALUE=DATE:20240211
DTEND;VALUE=DATE:20240212
DTSTAMP:20260425T120521
CREATED:20240122T103247Z
LAST-MODIFIED:20240122T103247Z
UID:1212-1707609600-1707695999@rccgmountzion.org
SUMMARY:SEEKING Matthew 7:7
DESCRIPTION:
URL:https://rccgmountzion.org/event/seeking-matthew-77/
END:VEVENT
BEGIN:VEVENT
DTSTART;VALUE=DATE:20240207
DTEND;VALUE=DATE:20240208
DTSTAMP:20260425T120521
CREATED:20240122T103158Z
LAST-MODIFIED:20240122T103220Z
UID:1210-1707264000-1707350399@rccgmountzion.org
SUMMARY:Communion @ Oasis
DESCRIPTION:
URL:https://rccgmountzion.org/event/communion-oasis-12/
END:VEVENT
BEGIN:VEVENT
DTSTART;VALUE=DATE:20240204
DTEND;VALUE=DATE:20240205
DTSTAMP:20260425T120521
CREATED:20240122T103051Z
LAST-MODIFIED:20240122T103051Z
UID:1208-1707004800-1707091199@rccgmountzion.org
SUMMARY:ASKING Luke 11:1 NLT
DESCRIPTION:
URL:https://rccgmountzion.org/event/asking-luke-111-nlt/
END:VEVENT
BEGIN:VEVENT
DTSTART;VALUE=DATE:20240128
DTEND;VALUE=DATE:20240129
DTSTAMP:20260425T120521
CREATED:20240122T102805Z
LAST-MODIFIED:20240122T103027Z
UID:1206-1706400000-1706486399@rccgmountzion.org
SUMMARY:Make A Difference – Psalm 145:4
DESCRIPTION:
URL:https://rccgmountzion.org/event/make-a-difference-psalm-1454/
END:VEVENT
BEGIN:VEVENT
DTSTART;VALUE=DATE:20240126
DTEND;VALUE=DATE:20240127
DTSTAMP:20260425T120521
CREATED:20240122T102714Z
LAST-MODIFIED:20240122T102714Z
UID:1204-1706227200-1706313599@rccgmountzion.org
SUMMARY:DOZ Night Vigil
DESCRIPTION:
URL:https://rccgmountzion.org/event/doz-night-vigil-3/
END:VEVENT
BEGIN:VEVENT
DTSTART;VALUE=DATE:20240121
DTEND;VALUE=DATE:20240122
DTSTAMP:20260425T120521
CREATED:20240122T102629Z
LAST-MODIFIED:20240122T102629Z
UID:1202-1705795200-1705881599@rccgmountzion.org
SUMMARY:Your Purpose – John 3:16
DESCRIPTION:
URL:https://rccgmountzion.org/event/your-purpose-john-316/
END:VEVENT
BEGIN:VEVENT
DTSTART;VALUE=DATE:20240119
DTEND;VALUE=DATE:20240121
DTSTAMP:20260425T120521
CREATED:20240122T102506Z
LAST-MODIFIED:20240122T102551Z
UID:1199-1705622400-1705795199@rccgmountzion.org
SUMMARY:KB Retreat
DESCRIPTION:
URL:https://rccgmountzion.org/event/kb-retreat-2/
END:VEVENT
BEGIN:VEVENT
DTSTART;VALUE=DATE:20240115
DTEND;VALUE=DATE:20240116
DTSTAMP:20260425T120521
CREATED:20240122T102426Z
LAST-MODIFIED:20240122T102426Z
UID:1197-1705276800-1705363199@rccgmountzion.org
SUMMARY:M L King Day
DESCRIPTION:
URL:https://rccgmountzion.org/event/m-l-king-day-3/
END:VEVENT
BEGIN:VEVENT
DTSTART;VALUE=DATE:20240114
DTEND;VALUE=DATE:20240115
DTSTAMP:20260425T120521
CREATED:20240122T101039Z
LAST-MODIFIED:20240122T101039Z
UID:1195-1705190400-1705276799@rccgmountzion.org
SUMMARY:Grow Through This Year – John 15:9
DESCRIPTION:
URL:https://rccgmountzion.org/event/grow-through-this-year-john-159/
END:VEVENT
BEGIN:VEVENT
DTSTART;VALUE=DATE:20240107
DTEND;VALUE=DATE:20240108
DTSTAMP:20260425T120521
CREATED:20240122T100905Z
LAST-MODIFIED:20240122T100919Z
UID:1193-1704585600-1704671999@rccgmountzion.org
SUMMARY:New Beginning with God’s Word – John 1: 1-5
DESCRIPTION:
URL:https://rccgmountzion.org/event/new-beginning-with-gods-word-john-1-1-5/
END:VEVENT
BEGIN:VEVENT
DTSTART;VALUE=DATE:20240101
DTEND;VALUE=DATE:20240102
DTSTAMP:20260425T120521
CREATED:20240122T100834Z
LAST-MODIFIED:20240122T100834Z
UID:1191-1704067200-1704153599@rccgmountzion.org
SUMMARY:New Year's Day
DESCRIPTION:
URL:https://rccgmountzion.org/event/new-years-day-2/
END:VEVENT
BEGIN:VEVENT
DTSTART;VALUE=DATE:20231227
DTEND;VALUE=DATE:20231228
DTSTAMP:20260425T120521
CREATED:20230120T060713Z
LAST-MODIFIED:20230120T060713Z
UID:946-1703635200-1703721599@rccgmountzion.org
SUMMARY:No Oasis service
DESCRIPTION:
URL:https://rccgmountzion.org/event/no-oasis-service-2/
END:VEVENT
BEGIN:VEVENT
DTSTART;VALUE=DATE:20231225
DTEND;VALUE=DATE:20231226
DTSTAMP:20260425T120521
CREATED:20230120T060555Z
LAST-MODIFIED:20230120T060555Z
UID:944-1703462400-1703548799@rccgmountzion.org
SUMMARY:Christmas celebration
DESCRIPTION:
URL:https://rccgmountzion.org/event/christmas-celebration/
END:VEVENT
BEGIN:VEVENT
DTSTART;TZID=UTC:20231220T080000
DTEND;TZID=UTC:20231220T170000
DTSTAMP:20260425T120521
CREATED:20230120T060535Z
LAST-MODIFIED:20230120T060535Z
UID:942-1703059200-1703091600@rccgmountzion.org
SUMMARY:Communion @ Oasis service
DESCRIPTION:
URL:https://rccgmountzion.org/event/communion-oasis-service-10/
END:VEVENT
BEGIN:VEVENT
DTSTART;VALUE=DATE:20231217
DTEND;VALUE=DATE:20231218
DTSTAMP:20260425T120521
CREATED:20230120T060442Z
LAST-MODIFIED:20230120T060442Z
UID:940-1702771200-1702857599@rccgmountzion.org
SUMMARY:From this day forward
DESCRIPTION:
URL:https://rccgmountzion.org/event/from-this-day-forward-4/
END:VEVENT
BEGIN:VEVENT
DTSTART;VALUE=DATE:20231213
DTEND;VALUE=DATE:20231214
DTSTAMP:20260425T120521
CREATED:20230120T060425Z
LAST-MODIFIED:20230120T060425Z
UID:938-1702425600-1702511999@rccgmountzion.org
SUMMARY:Oasis service
DESCRIPTION:
URL:https://rccgmountzion.org/event/oasis-service-33/
END:VEVENT
BEGIN:VEVENT
DTSTART;VALUE=DATE:20231209
DTEND;VALUE=DATE:20231210
DTSTAMP:20260425T120521
CREATED:20230120T060409Z
LAST-MODIFIED:20230120T060409Z
UID:936-1702080000-1702166399@rccgmountzion.org
SUMMARY:Christmas in Lake-city
DESCRIPTION:
URL:https://rccgmountzion.org/event/christmas-in-lake-city/
END:VEVENT
BEGIN:VEVENT
DTSTART;VALUE=DATE:20231206
DTEND;VALUE=DATE:20231207
DTSTAMP:20260425T120521
CREATED:20230120T060354Z
LAST-MODIFIED:20230120T060354Z
UID:934-1701820800-1701907199@rccgmountzion.org
SUMMARY:Oasis service
DESCRIPTION:
URL:https://rccgmountzion.org/event/oasis-service-32/
END:VEVENT
BEGIN:VEVENT
DTSTART;VALUE=DATE:20231203
DTEND;VALUE=DATE:20231204
DTSTAMP:20260425T120521
CREATED:20230120T060306Z
LAST-MODIFIED:20230120T060306Z
UID:932-1701561600-1701647999@rccgmountzion.org
SUMMARY:Fasting and Prayers
DESCRIPTION:
URL:https://rccgmountzion.org/event/fasting-and-prayers-16/
END:VEVENT
BEGIN:VEVENT
DTSTART;VALUE=DATE:20231202
DTEND;VALUE=DATE:20231203
DTSTAMP:20260425T120521
CREATED:20230120T060248Z
LAST-MODIFIED:20230120T060248Z
UID:930-1701475200-1701561599@rccgmountzion.org
SUMMARY:Fasting and Prayers MOVAD
DESCRIPTION:
URL:https://rccgmountzion.org/event/fasting-and-prayers-movad-2/
END:VEVENT
BEGIN:VEVENT
DTSTART;VALUE=DATE:20231201
DTEND;VALUE=DATE:20231202
DTSTAMP:20260425T120521
CREATED:20230120T060233Z
LAST-MODIFIED:20230120T060233Z
UID:928-1701388800-1701475199@rccgmountzion.org
SUMMARY:Fasting and Prayers MOVAD
DESCRIPTION:
URL:https://rccgmountzion.org/event/fasting-and-prayers-movad/
END:VEVENT
BEGIN:VEVENT
DTSTART;VALUE=DATE:20231129
DTEND;VALUE=DATE:20231130
DTSTAMP:20260425T120521
CREATED:20230120T060214Z
LAST-MODIFIED:20230120T060214Z
UID:926-1701216000-1701302399@rccgmountzion.org
SUMMARY:Oasis service
DESCRIPTION:
URL:https://rccgmountzion.org/event/oasis-service-31/
END:VEVENT
BEGIN:VEVENT
DTSTART;VALUE=DATE:20231126
DTEND;VALUE=DATE:20231127
DTSTAMP:20260425T120521
CREATED:20230120T060157Z
LAST-MODIFIED:20230120T060157Z
UID:924-1700956800-1701043199@rccgmountzion.org
SUMMARY:Love Feast
DESCRIPTION:
URL:https://rccgmountzion.org/event/love-feast/
END:VEVENT
BEGIN:VEVENT
DTSTART;VALUE=DATE:20231123
DTEND;VALUE=DATE:20231124
DTSTAMP:20260425T120521
CREATED:20230120T060139Z
LAST-MODIFIED:20230120T060139Z
UID:922-1700697600-1700783999@rccgmountzion.org
SUMMARY:Thanksgiving Day
DESCRIPTION:
URL:https://rccgmountzion.org/event/thanksgiving-day-2/
END:VEVENT
END:VCALENDAR