BEGIN:VCALENDAR
VERSION:2.0
PRODID:-//Mount Zion Parish - ECPv6.15.18//NONSGML v1.0//EN
CALSCALE:GREGORIAN
METHOD:PUBLISH
X-WR-CALNAME:Mount Zion Parish
X-ORIGINAL-URL:https://rccgmountzion.org
X-WR-CALDESC:Events for Mount Zion Parish
REFRESH-INTERVAL;VALUE=DURATION:PT1H
X-Robots-Tag:noindex
X-PUBLISHED-TTL:PT1H
BEGIN:VTIMEZONE
TZID:UTC
BEGIN:STANDARD
TZOFFSETFROM:+0000
TZOFFSETTO:+0000
TZNAME:UTC
DTSTART:20230101T000000
END:STANDARD
END:VTIMEZONE
BEGIN:VEVENT
DTSTART;VALUE=DATE:20240623
DTEND;VALUE=DATE:20240624
DTSTAMP:20260423T214509
CREATED:20240122T125822Z
LAST-MODIFIED:20240122T125822Z
UID:1289-1719100800-1719187199@rccgmountzion.org
SUMMARY:ORDINARY to EXTRAORDINARY LIFE Micah 6:8 NLV  Graduation event
DESCRIPTION:
URL:https://rccgmountzion.org/event/ordinary-to-extraordinary-life-micah-68-nlv-graduation-event/
END:VEVENT
BEGIN:VEVENT
DTSTART;VALUE=DATE:20240622
DTEND;VALUE=DATE:20240623
DTSTAMP:20260423T214509
CREATED:20240122T125748Z
LAST-MODIFIED:20240122T125748Z
UID:1287-1719014400-1719100799@rccgmountzion.org
SUMMARY:Summer cleaning
DESCRIPTION:
URL:https://rccgmountzion.org/event/summer-cleaning-2/
END:VEVENT
BEGIN:VEVENT
DTSTART;VALUE=DATE:20240616
DTEND;VALUE=DATE:20240617
DTSTAMP:20260423T214509
CREATED:20240122T125715Z
LAST-MODIFIED:20240122T125715Z
UID:1285-1718496000-1718582399@rccgmountzion.org
SUMMARY:FATHER’S DAY Evidence of a godly man Psalm 12:1 KJV
DESCRIPTION:
URL:https://rccgmountzion.org/event/fathers-day-evidence-of-a-godly-man-psalm-121-kjv/
END:VEVENT
BEGIN:VEVENT
DTSTART;VALUE=DATE:20240615
DTEND;VALUE=DATE:20240616
DTSTAMP:20260423T214509
CREATED:20240122T125651Z
LAST-MODIFIED:20240122T125651Z
UID:1283-1718409600-1718495999@rccgmountzion.org
SUMMARY:Community event
DESCRIPTION:
URL:https://rccgmountzion.org/event/community-event-2/
END:VEVENT
BEGIN:VEVENT
DTSTART;VALUE=DATE:20240609
DTEND;VALUE=DATE:20240610
DTSTAMP:20260423T214509
CREATED:20240122T125622Z
LAST-MODIFIED:20240122T125622Z
UID:1281-1717891200-1717977599@rccgmountzion.org
SUMMARY:A LIFE OF FAVOR  Esther 2:9a  Invasion conf
DESCRIPTION:
URL:https://rccgmountzion.org/event/a-life-of-favor-esther-29a-invasion-conf/
END:VEVENT
BEGIN:VEVENT
DTSTART;VALUE=DATE:20240606
DTEND;VALUE=DATE:20240609
DTSTAMP:20260423T214509
CREATED:20240122T125001Z
LAST-MODIFIED:20240122T125028Z
UID:1279-1717632000-1717891199@rccgmountzion.org
SUMMARY:Children`s summer trip
DESCRIPTION:
URL:https://rccgmountzion.org/event/childrens-summer-trip/
END:VEVENT
BEGIN:VEVENT
DTSTART;VALUE=DATE:20240605
DTEND;VALUE=DATE:20240606
DTSTAMP:20260423T214509
CREATED:20240122T124914Z
LAST-MODIFIED:20240122T124914Z
UID:1277-1717545600-1717631999@rccgmountzion.org
SUMMARY:Communion @ Oasis
DESCRIPTION:
URL:https://rccgmountzion.org/event/communion-oasis-16/
END:VEVENT
BEGIN:VEVENT
DTSTART;VALUE=DATE:20240602
DTEND;VALUE=DATE:20240603
DTSTAMP:20260423T214509
CREATED:20240122T124846Z
LAST-MODIFIED:20240122T124846Z
UID:1275-1717286400-1717372799@rccgmountzion.org
SUMMARY:AN UNLIKELY HERO Rom. 8:28 NLT
DESCRIPTION:
URL:https://rccgmountzion.org/event/an-unlikely-hero-rom-828-nlt/
END:VEVENT
BEGIN:VEVENT
DTSTART;VALUE=DATE:20240527
DTEND;VALUE=DATE:20240528
DTSTAMP:20260423T214509
CREATED:20240122T124752Z
LAST-MODIFIED:20240122T124752Z
UID:1273-1716768000-1716854399@rccgmountzion.org
SUMMARY:Memorial Day
DESCRIPTION:
URL:https://rccgmountzion.org/event/memorial-day-3/
END:VEVENT
BEGIN:VEVENT
DTSTART;VALUE=DATE:20240526
DTEND;VALUE=DATE:20240527
DTSTAMP:20260423T214509
CREATED:20240122T110449Z
LAST-MODIFIED:20240122T124551Z
UID:1271-1716681600-1716767999@rccgmountzion.org
SUMMARY:NATIONS YOUTH CHURCH SERVICE Revelation 7:9 NIV  Youth Takeover
DESCRIPTION:
URL:https://rccgmountzion.org/event/nations-youth-church-service-revelation-79-niv-youth-takeover/
END:VEVENT
BEGIN:VEVENT
DTSTART;VALUE=DATE:20240525
DTEND;VALUE=DATE:20240526
DTSTAMP:20260423T214509
CREATED:20240122T110400Z
LAST-MODIFIED:20240122T110401Z
UID:1269-1716595200-1716681599@rccgmountzion.org
SUMMARY:Youth Takeover
DESCRIPTION:
URL:https://rccgmountzion.org/event/youth-takeover/
END:VEVENT
BEGIN:VEVENT
DTSTART;VALUE=DATE:20240519
DTEND;VALUE=DATE:20240520
DTSTAMP:20260423T214509
CREATED:20240122T110244Z
LAST-MODIFIED:20240122T110244Z
UID:1267-1716076800-1716163199@rccgmountzion.org
SUMMARY:EVIDENCE OF A GODLY WOMAN Proverbs 31:10 NLT
DESCRIPTION:
URL:https://rccgmountzion.org/event/evidence-of-a-godly-woman-proverbs-3110-nlt/
END:VEVENT
BEGIN:VEVENT
DTSTART;VALUE=DATE:20240512
DTEND;VALUE=DATE:20240513
DTSTAMP:20260423T214509
CREATED:20240122T110125Z
LAST-MODIFIED:20240122T110125Z
UID:1265-1715472000-1715558399@rccgmountzion.org
SUMMARY:NOW GENERATION MUSICALS & PRAISE MOTHER’S DAY THANKSGIVING
DESCRIPTION:
URL:https://rccgmountzion.org/event/now-generation-musicals-praise-mothers-day-thanksgiving/
END:VEVENT
BEGIN:VEVENT
DTSTART;VALUE=DATE:20240510
DTEND;VALUE=DATE:20240512
DTSTAMP:20260423T214509
CREATED:20240122T105953Z
LAST-MODIFIED:20240122T110040Z
UID:1262-1715299200-1715471999@rccgmountzion.org
SUMMARY:Mother`s Day Weekend
DESCRIPTION:
URL:https://rccgmountzion.org/event/mothers-day-weekend-6/
END:VEVENT
BEGIN:VEVENT
DTSTART;VALUE=DATE:20240505
DTEND;VALUE=DATE:20240506
DTSTAMP:20260423T214509
CREATED:20240122T105823Z
LAST-MODIFIED:20240122T105823Z
UID:1260-1714867200-1714953599@rccgmountzion.org
SUMMARY:NOW GENERATION LAUNCH Isaiah 58:12 MSG\, ESV
DESCRIPTION:
URL:https://rccgmountzion.org/event/now-generation-launch-isaiah-5812-msg-esv/
END:VEVENT
BEGIN:VEVENT
DTSTART;VALUE=DATE:20240501
DTEND;VALUE=DATE:20240502
DTSTAMP:20260423T214509
CREATED:20240122T105724Z
LAST-MODIFIED:20240122T105724Z
UID:1258-1714521600-1714607999@rccgmountzion.org
SUMMARY:Communion @ Oasis
DESCRIPTION:
URL:https://rccgmountzion.org/event/communion-oasis-15/
END:VEVENT
BEGIN:VEVENT
DTSTART;VALUE=DATE:20240428
DTEND;VALUE=DATE:20240429
DTSTAMP:20260423T214509
CREATED:20240122T105616Z
LAST-MODIFIED:20240122T105616Z
UID:1256-1714262400-1714348799@rccgmountzion.org
SUMMARY:THINGS ABOVE Colossians 3:1-2 NIV
DESCRIPTION:
URL:https://rccgmountzion.org/event/things-above-colossians-31-2-niv/
END:VEVENT
BEGIN:VEVENT
DTSTART;VALUE=DATE:20240427
DTEND;VALUE=DATE:20240428
DTSTAMP:20260423T214509
CREATED:20240122T105415Z
LAST-MODIFIED:20240122T105415Z
UID:1254-1714176000-1714262399@rccgmountzion.org
SUMMARY:Bloom Conference
DESCRIPTION:
URL:https://rccgmountzion.org/event/bloom-conference/
END:VEVENT
BEGIN:VEVENT
DTSTART;VALUE=DATE:20240421
DTEND;VALUE=DATE:20240422
DTSTAMP:20260423T214509
CREATED:20240122T105342Z
LAST-MODIFIED:20240122T105342Z
UID:1252-1713657600-1713743999@rccgmountzion.org
SUMMARY:Children`s DayFTDF Evangelism
DESCRIPTION:
URL:https://rccgmountzion.org/event/childrens-dayftdf-evangelism/
END:VEVENT
BEGIN:VEVENT
DTSTART;VALUE=DATE:20240420
DTEND;VALUE=DATE:20240421
DTSTAMP:20260423T214509
CREATED:20240122T105248Z
LAST-MODIFIED:20240122T105318Z
UID:1250-1713571200-1713657599@rccgmountzion.org
SUMMARY:HF Leadership Training
DESCRIPTION:
URL:https://rccgmountzion.org/event/hf-leadership-training/
END:VEVENT
BEGIN:VEVENT
DTSTART;VALUE=DATE:20240414
DTEND;VALUE=DATE:20240415
DTSTAMP:20260423T214509
CREATED:20240122T105218Z
LAST-MODIFIED:20240122T105218Z
UID:1248-1713052800-1713139199@rccgmountzion.org
SUMMARY:MISSIONS John 14:12 NLT
DESCRIPTION:
URL:https://rccgmountzion.org/event/missions-john-1412-nlt/
END:VEVENT
BEGIN:VEVENT
DTSTART;VALUE=DATE:20240407
DTEND;VALUE=DATE:20240408
DTSTAMP:20260423T214509
CREATED:20240122T105151Z
LAST-MODIFIED:20240122T105151Z
UID:1246-1712448000-1712534399@rccgmountzion.org
SUMMARY:GENEROSITY Isaiah 32:8 NLT
DESCRIPTION:
URL:https://rccgmountzion.org/event/generosity-isaiah-328-nlt/
END:VEVENT
BEGIN:VEVENT
DTSTART;VALUE=DATE:20240403
DTEND;VALUE=DATE:20240404
DTSTAMP:20260423T214509
CREATED:20240122T105022Z
LAST-MODIFIED:20240122T105128Z
UID:1244-1712102400-1712188799@rccgmountzion.org
SUMMARY:Communion @ Oasis
DESCRIPTION:
URL:https://rccgmountzion.org/event/communion-oasis-14/
END:VEVENT
BEGIN:VEVENT
DTSTART;VALUE=DATE:20240331
DTEND;VALUE=DATE:20240401
DTSTAMP:20260423T214509
CREATED:20240122T104739Z
LAST-MODIFIED:20240122T104943Z
UID:1242-1711843200-1711929599@rccgmountzion.org
SUMMARY:Easter Sunday CELEBRATE THE KING
DESCRIPTION:
URL:https://rccgmountzion.org/event/easter-sunday-celebrate-the-king/
END:VEVENT
BEGIN:VEVENT
DTSTART;VALUE=DATE:20240330
DTEND;VALUE=DATE:20240331
DTSTAMP:20260423T214509
CREATED:20240122T104708Z
LAST-MODIFIED:20240122T104708Z
UID:1240-1711756800-1711843199@rccgmountzion.org
SUMMARY:Community event
DESCRIPTION:
URL:https://rccgmountzion.org/event/community-event/
END:VEVENT
BEGIN:VEVENT
DTSTART;VALUE=DATE:20240329
DTEND;VALUE=DATE:20240330
DTSTAMP:20260423T214509
CREATED:20240122T104636Z
LAST-MODIFIED:20240122T104636Z
UID:1238-1711670400-1711756799@rccgmountzion.org
SUMMARY:Good Friday
DESCRIPTION:
URL:https://rccgmountzion.org/event/good-friday-2/
END:VEVENT
BEGIN:VEVENT
DTSTART;VALUE=DATE:20240324
DTEND;VALUE=DATE:20240325
DTSTAMP:20260423T214509
CREATED:20240122T104542Z
LAST-MODIFIED:20240122T104542Z
UID:1236-1711238400-1711324799@rccgmountzion.org
SUMMARY:MAKE ROOM FOR MIRACLES 2 Kings 4:34 NLT
DESCRIPTION:
URL:https://rccgmountzion.org/event/make-room-for-miracles-2-kings-434-nlt/
END:VEVENT
BEGIN:VEVENT
DTSTART;VALUE=DATE:20240323
DTEND;VALUE=DATE:20240324
DTSTAMP:20260423T214509
CREATED:20240122T104514Z
LAST-MODIFIED:20240122T104514Z
UID:1234-1711152000-1711238399@rccgmountzion.org
SUMMARY:Spring Cleaning
DESCRIPTION:
URL:https://rccgmountzion.org/event/spring-cleaning-2/
END:VEVENT
BEGIN:VEVENT
DTSTART;VALUE=DATE:20240317
DTEND;VALUE=DATE:20240318
DTSTAMP:20260423T214509
CREATED:20240122T104435Z
LAST-MODIFIED:20240122T104435Z
UID:1232-1710633600-1710719999@rccgmountzion.org
SUMMARY:FTDF WIM Conference
DESCRIPTION:
URL:https://rccgmountzion.org/event/ftdf-wim-conference/
END:VEVENT
BEGIN:VEVENT
DTSTART;TZID=UTC:20240314T000000
DTEND;TZID=UTC:20240316T235900
DTSTAMP:20260423T214509
CREATED:20240122T104255Z
LAST-MODIFIED:20240122T104402Z
UID:1230-1710374400-1710633540@rccgmountzion.org
SUMMARY:WIM Conference
DESCRIPTION:
URL:https://rccgmountzion.org/event/wim-conference/
END:VEVENT
END:VCALENDAR