BEGIN:VCALENDAR
VERSION:2.0
PRODID:-//Mount Zion Parish - ECPv6.15.18//NONSGML v1.0//EN
CALSCALE:GREGORIAN
METHOD:PUBLISH
X-ORIGINAL-URL:https://rccgmountzion.org
X-WR-CALDESC:Events for Mount Zion Parish
REFRESH-INTERVAL;VALUE=DURATION:PT1H
X-Robots-Tag:noindex
X-PUBLISHED-TTL:PT1H
BEGIN:VTIMEZONE
TZID:UTC
BEGIN:STANDARD
TZOFFSETFROM:+0000
TZOFFSETTO:+0000
TZNAME:UTC
DTSTART:20230101T000000
END:STANDARD
END:VTIMEZONE
BEGIN:VEVENT
DTSTART;VALUE=DATE:20240913
DTEND;VALUE=DATE:20240914
DTSTAMP:20260423T185436
CREATED:20240122T133152Z
LAST-MODIFIED:20240122T133152Z
UID:1338-1726185600-1726271999@rccgmountzion.org
SUMMARY:DOZ Prayer Conference
DESCRIPTION:
URL:https://rccgmountzion.org/event/doz-prayer-conference/
END:VEVENT
BEGIN:VEVENT
DTSTART;VALUE=DATE:20240908
DTEND;VALUE=DATE:20240909
DTSTAMP:20260423T185436
CREATED:20240122T133125Z
LAST-MODIFIED:20240122T133125Z
UID:1336-1725753600-1725839999@rccgmountzion.org
SUMMARY:FIRE CONFERENCE HIS FULLNESS Colossians 2:7a NIV
DESCRIPTION:
URL:https://rccgmountzion.org/event/fire-conference-his-fullness-colossians-27a-niv/
END:VEVENT
BEGIN:VEVENT
DTSTART;VALUE=DATE:20240904
DTEND;VALUE=DATE:20240905
DTSTAMP:20260423T185436
CREATED:20240122T133053Z
LAST-MODIFIED:20240122T133053Z
UID:1334-1725408000-1725494399@rccgmountzion.org
SUMMARY:Communion @ Oasis
DESCRIPTION:
URL:https://rccgmountzion.org/event/communion-oasis-19/
END:VEVENT
BEGIN:VEVENT
DTSTART;VALUE=DATE:20240902
DTEND;VALUE=DATE:20240903
DTSTAMP:20260423T185436
CREATED:20240122T133019Z
LAST-MODIFIED:20240122T133019Z
UID:1332-1725235200-1725321599@rccgmountzion.org
SUMMARY:Labor Day
DESCRIPTION:
URL:https://rccgmountzion.org/event/labor-day-3/
END:VEVENT
BEGIN:VEVENT
DTSTART;VALUE=DATE:20240901
DTEND;VALUE=DATE:20240902
DTSTAMP:20260423T185436
CREATED:20240122T132939Z
LAST-MODIFIED:20240122T132939Z
UID:1330-1725148800-1725235199@rccgmountzion.org
SUMMARY:HOPE Colossians 1:27 TPT
DESCRIPTION:
URL:https://rccgmountzion.org/event/hope-colossians-127-tpt/
END:VEVENT
BEGIN:VEVENT
DTSTART;VALUE=DATE:20240825
DTEND;VALUE=DATE:20240826
DTSTAMP:20260423T185436
CREATED:20240122T132849Z
LAST-MODIFIED:20240122T132849Z
UID:1328-1724544000-1724630399@rccgmountzion.org
SUMMARY:GREATNESS Psalm 71:21 ESV  Evangelism
DESCRIPTION:
URL:https://rccgmountzion.org/event/greatness-psalm-7121-esv-evangelism/
END:VEVENT
BEGIN:VEVENT
DTSTART;VALUE=DATE:20240818
DTEND;VALUE=DATE:20240819
DTSTAMP:20260423T185436
CREATED:20240122T132823Z
LAST-MODIFIED:20240122T132823Z
UID:1326-1723939200-1724025599@rccgmountzion.org
SUMMARY:FTDF
DESCRIPTION:
URL:https://rccgmountzion.org/event/ftdf-11/
END:VEVENT
BEGIN:VEVENT
DTSTART;VALUE=DATE:20240811
DTEND;VALUE=DATE:20240812
DTSTAMP:20260423T185436
CREATED:20240122T132753Z
LAST-MODIFIED:20240122T132753Z
UID:1324-1723334400-1723420799@rccgmountzion.org
SUMMARY:ADJUST YOUR ATTITUDE 1Corinthians 13:13 NIV
DESCRIPTION:
URL:https://rccgmountzion.org/event/adjust-your-attitude-1corinthians-1313-niv/
END:VEVENT
BEGIN:VEVENT
DTSTART;VALUE=DATE:20240809
DTEND;VALUE=DATE:20240811
DTSTAMP:20260423T185436
CREATED:20240122T132730Z
LAST-MODIFIED:20240122T132730Z
UID:1322-1723161600-1723334399@rccgmountzion.org
SUMMARY:POWER UP
DESCRIPTION:
URL:https://rccgmountzion.org/event/power-up-3/
END:VEVENT
BEGIN:VEVENT
DTSTART;VALUE=DATE:20240807
DTEND;VALUE=DATE:20240808
DTSTAMP:20260423T185436
CREATED:20240122T132659Z
LAST-MODIFIED:20240122T132659Z
UID:1320-1722988800-1723075199@rccgmountzion.org
SUMMARY:Communion @ Oasis
DESCRIPTION:
URL:https://rccgmountzion.org/event/communion-oasis-18/
END:VEVENT
BEGIN:VEVENT
DTSTART;VALUE=DATE:20240804
DTEND;VALUE=DATE:20240805
DTSTAMP:20260423T185436
CREATED:20240122T132630Z
LAST-MODIFIED:20240122T132630Z
UID:1318-1722729600-1722815999@rccgmountzion.org
SUMMARY:ATTITUDE STORMS Ephesians 4:17 NIV
DESCRIPTION:
URL:https://rccgmountzion.org/event/attitude-storms-ephesians-417-niv/
END:VEVENT
BEGIN:VEVENT
DTSTART;VALUE=DATE:20240728
DTEND;VALUE=DATE:20240729
DTSTAMP:20260423T185436
CREATED:20240122T132534Z
LAST-MODIFIED:20240122T132534Z
UID:1316-1722124800-1722211199@rccgmountzion.org
SUMMARY:GODLY FRIENSHIP Genesis 2:18 ESV; Proverbs 18:24 KJV
DESCRIPTION:
URL:https://rccgmountzion.org/event/godly-frienship-genesis-218-esv-proverbs-1824-kjv/
END:VEVENT
BEGIN:VEVENT
DTSTART;VALUE=DATE:20240727
DTEND;VALUE=DATE:20240728
DTSTAMP:20260423T185436
CREATED:20240122T132500Z
LAST-MODIFIED:20240122T132500Z
UID:1314-1722038400-1722124799@rccgmountzion.org
SUMMARY:SOD event
DESCRIPTION:
URL:https://rccgmountzion.org/event/sod-event/
END:VEVENT
BEGIN:VEVENT
DTSTART;VALUE=DATE:20240721
DTEND;VALUE=DATE:20240722
DTSTAMP:20260423T185436
CREATED:20240122T132437Z
LAST-MODIFIED:20240122T132437Z
UID:1311-1721520000-1721606399@rccgmountzion.org
SUMMARY:FTDF
DESCRIPTION:
URL:https://rccgmountzion.org/event/ftdf-10/
END:VEVENT
BEGIN:VEVENT
DTSTART;VALUE=DATE:20240720
DTEND;VALUE=DATE:20240721
DTSTAMP:20260423T185436
CREATED:20240122T132412Z
LAST-MODIFIED:20240122T132412Z
UID:1309-1721433600-1721519999@rccgmountzion.org
SUMMARY:Brunch with Pastor
DESCRIPTION:
URL:https://rccgmountzion.org/event/brunch-with-pastor/
END:VEVENT
BEGIN:VEVENT
DTSTART;VALUE=DATE:20240714
DTEND;VALUE=DATE:20240715
DTSTAMP:20260423T185436
CREATED:20240122T132341Z
LAST-MODIFIED:20240122T132341Z
UID:1307-1720915200-1721001599@rccgmountzion.org
SUMMARY:SHIFT IN YOUR THINKING Psalm 18:19 ESV
DESCRIPTION:
URL:https://rccgmountzion.org/event/shift-in-your-thinking-psalm-1819-esv/
END:VEVENT
BEGIN:VEVENT
DTSTART;VALUE=DATE:20240713
DTEND;VALUE=DATE:20240714
DTSTAMP:20260423T185436
CREATED:20240122T132318Z
LAST-MODIFIED:20240122T132318Z
UID:1305-1720828800-1720915199@rccgmountzion.org
SUMMARY:DOZ- OOS trip
DESCRIPTION:
URL:https://rccgmountzion.org/event/doz-oos-trip-2/
END:VEVENT
BEGIN:VEVENT
DTSTART;VALUE=DATE:20240712
DTEND;VALUE=DATE:20240713
DTSTAMP:20260423T185436
CREATED:20240122T130346Z
LAST-MODIFIED:20240122T132230Z
UID:1303-1720742400-1720828799@rccgmountzion.org
SUMMARY:INVASION DOZ- OOS trip
DESCRIPTION:
URL:https://rccgmountzion.org/event/invasion-doz-oos-trip/
END:VEVENT
BEGIN:VEVENT
DTSTART;VALUE=DATE:20240710
DTEND;VALUE=DATE:20240712
DTSTAMP:20260423T185436
CREATED:20240122T130315Z
LAST-MODIFIED:20240122T130315Z
UID:1301-1720569600-1720742399@rccgmountzion.org
SUMMARY:DOZ- OOS trip
DESCRIPTION:
URL:https://rccgmountzion.org/event/doz-oos-trip/
END:VEVENT
BEGIN:VEVENT
DTSTART;VALUE=DATE:20240707
DTEND;VALUE=DATE:20240708
DTSTAMP:20260423T185436
CREATED:20240122T130219Z
LAST-MODIFIED:20240122T130219Z
UID:1299-1720310400-1720396799@rccgmountzion.org
SUMMARY:Prayer Retreat\, Mid-Year Praise ONE THING TO DOPhil3:12-14
DESCRIPTION:
URL:https://rccgmountzion.org/event/prayer-retreat-mid-year-praise-one-thing-to-dophil312-14/
END:VEVENT
BEGIN:VEVENT
DTSTART;VALUE=DATE:20240705
DTEND;VALUE=DATE:20240708
DTSTAMP:20260423T185436
CREATED:20240122T130114Z
LAST-MODIFIED:20240122T130148Z
UID:1297-1720137600-1720396799@rccgmountzion.org
SUMMARY:Prayer Retreat
DESCRIPTION:
URL:https://rccgmountzion.org/event/prayer-retreat-4/
END:VEVENT
BEGIN:VEVENT
DTSTART;VALUE=DATE:20240704
DTEND;VALUE=DATE:20240705
DTSTAMP:20260423T185436
CREATED:20240122T130049Z
LAST-MODIFIED:20240122T130049Z
UID:1295-1720051200-1720137599@rccgmountzion.org
SUMMARY:Independence Day
DESCRIPTION:
URL:https://rccgmountzion.org/event/independence-day-3/
END:VEVENT
BEGIN:VEVENT
DTSTART;VALUE=DATE:20240703
DTEND;VALUE=DATE:20240704
DTSTAMP:20260423T185436
CREATED:20240122T130007Z
LAST-MODIFIED:20240122T130007Z
UID:1293-1719964800-1720051199@rccgmountzion.org
SUMMARY:Communion @ Oasis
DESCRIPTION:
URL:https://rccgmountzion.org/event/communion-oasis-17/
END:VEVENT
BEGIN:VEVENT
DTSTART;VALUE=DATE:20240630
DTEND;VALUE=DATE:20240701
DTSTAMP:20260423T185436
CREATED:20240122T125918Z
LAST-MODIFIED:20240122T125918Z
UID:1291-1719705600-1719791999@rccgmountzion.org
SUMMARY:FOR SUCH A TIME LIKE THIS Esther 12:14 NLT  Evangelism
DESCRIPTION:
URL:https://rccgmountzion.org/event/for-such-a-time-like-this-esther-1214-nlt-evangelism/
END:VEVENT
BEGIN:VEVENT
DTSTART;VALUE=DATE:20240623
DTEND;VALUE=DATE:20240624
DTSTAMP:20260423T185436
CREATED:20240122T125822Z
LAST-MODIFIED:20240122T125822Z
UID:1289-1719100800-1719187199@rccgmountzion.org
SUMMARY:ORDINARY to EXTRAORDINARY LIFE Micah 6:8 NLV  Graduation event
DESCRIPTION:
URL:https://rccgmountzion.org/event/ordinary-to-extraordinary-life-micah-68-nlv-graduation-event/
END:VEVENT
BEGIN:VEVENT
DTSTART;VALUE=DATE:20240622
DTEND;VALUE=DATE:20240623
DTSTAMP:20260423T185436
CREATED:20240122T125748Z
LAST-MODIFIED:20240122T125748Z
UID:1287-1719014400-1719100799@rccgmountzion.org
SUMMARY:Summer cleaning
DESCRIPTION:
URL:https://rccgmountzion.org/event/summer-cleaning-2/
END:VEVENT
BEGIN:VEVENT
DTSTART;VALUE=DATE:20240616
DTEND;VALUE=DATE:20240617
DTSTAMP:20260423T185436
CREATED:20240122T125715Z
LAST-MODIFIED:20240122T125715Z
UID:1285-1718496000-1718582399@rccgmountzion.org
SUMMARY:FATHER’S DAY Evidence of a godly man Psalm 12:1 KJV
DESCRIPTION:
URL:https://rccgmountzion.org/event/fathers-day-evidence-of-a-godly-man-psalm-121-kjv/
END:VEVENT
BEGIN:VEVENT
DTSTART;VALUE=DATE:20240615
DTEND;VALUE=DATE:20240616
DTSTAMP:20260423T185436
CREATED:20240122T125651Z
LAST-MODIFIED:20240122T125651Z
UID:1283-1718409600-1718495999@rccgmountzion.org
SUMMARY:Community event
DESCRIPTION:
URL:https://rccgmountzion.org/event/community-event-2/
END:VEVENT
BEGIN:VEVENT
DTSTART;VALUE=DATE:20240609
DTEND;VALUE=DATE:20240610
DTSTAMP:20260423T185436
CREATED:20240122T125622Z
LAST-MODIFIED:20240122T125622Z
UID:1281-1717891200-1717977599@rccgmountzion.org
SUMMARY:A LIFE OF FAVOR  Esther 2:9a  Invasion conf
DESCRIPTION:
URL:https://rccgmountzion.org/event/a-life-of-favor-esther-29a-invasion-conf/
END:VEVENT
BEGIN:VEVENT
DTSTART;VALUE=DATE:20240606
DTEND;VALUE=DATE:20240609
DTSTAMP:20260423T185436
CREATED:20240122T125001Z
LAST-MODIFIED:20240122T125028Z
UID:1279-1717632000-1717891199@rccgmountzion.org
SUMMARY:Children`s summer trip
DESCRIPTION:
URL:https://rccgmountzion.org/event/childrens-summer-trip/
END:VEVENT
END:VCALENDAR