BEGIN:VCALENDAR
VERSION:2.0
PRODID:-//Mount Zion Parish - ECPv6.15.18//NONSGML v1.0//EN
CALSCALE:GREGORIAN
METHOD:PUBLISH
X-WR-CALNAME:Mount Zion Parish
X-ORIGINAL-URL:https://rccgmountzion.org
X-WR-CALDESC:Events for Mount Zion Parish
REFRESH-INTERVAL;VALUE=DURATION:PT1H
X-Robots-Tag:noindex
X-PUBLISHED-TTL:PT1H
BEGIN:VTIMEZONE
TZID:UTC
BEGIN:STANDARD
TZOFFSETFROM:+0000
TZOFFSETTO:+0000
TZNAME:UTC
DTSTART:20210101T000000
END:STANDARD
END:VTIMEZONE
BEGIN:VEVENT
DTSTART;VALUE=DATE:20220130
DTEND;VALUE=DATE:20220131
DTSTAMP:20260425T153201
CREATED:20230106T115129Z
LAST-MODIFIED:20230106T115129Z
UID:579-1643500800-1643587199@rccgmountzion.org
SUMMARY:Your dream will come true Gen 39:2 (NIV)
DESCRIPTION:
URL:https://rccgmountzion.org/event/your-dream-will-come-true-gen-392-niv/
END:VEVENT
BEGIN:VEVENT
DTSTART;VALUE=DATE:20220126
DTEND;VALUE=DATE:20220127
DTSTAMP:20260425T153201
CREATED:20230106T115150Z
LAST-MODIFIED:20230106T115150Z
UID:581-1643155200-1643241599@rccgmountzion.org
SUMMARY:Oasis Service
DESCRIPTION:
URL:https://rccgmountzion.org/event/oasis-service-5/
END:VEVENT
BEGIN:VEVENT
DTSTART;VALUE=DATE:20220123
DTEND;VALUE=DATE:20220124
DTSTAMP:20260425T153201
CREATED:20230106T115241Z
LAST-MODIFIED:20230106T115241Z
UID:583-1642896000-1642982399@rccgmountzion.org
SUMMARY:Revival means an extra mile Matt. 5:14(NIV)
DESCRIPTION:
URL:https://rccgmountzion.org/event/revival-means-an-extra-mile-matt-514niv/
END:VEVENT
BEGIN:VEVENT
DTSTART;VALUE=DATE:20220121
DTEND;VALUE=DATE:20220122
DTSTAMP:20260425T153201
CREATED:20230106T115305Z
LAST-MODIFIED:20230106T115305Z
UID:585-1642723200-1642809599@rccgmountzion.org
SUMMARY:DOZ Night Vigil
DESCRIPTION:
URL:https://rccgmountzion.org/event/doz-night-vigil/
END:VEVENT
BEGIN:VEVENT
DTSTART;VALUE=DATE:20220119
DTEND;VALUE=DATE:20220120
DTSTAMP:20260425T153201
CREATED:20230106T115342Z
LAST-MODIFIED:20230106T115342Z
UID:587-1642550400-1642636799@rccgmountzion.org
SUMMARY:Communion @ Oasis
DESCRIPTION:
URL:https://rccgmountzion.org/event/communion-oasis-11/
END:VEVENT
BEGIN:VEVENT
DTSTART;VALUE=DATE:20220117
DTEND;VALUE=DATE:20220118
DTSTAMP:20260425T153201
CREATED:20230106T115414Z
LAST-MODIFIED:20230106T115414Z
UID:589-1642377600-1642463999@rccgmountzion.org
SUMMARY:M L King Day
DESCRIPTION:
URL:https://rccgmountzion.org/event/m-l-king-day/
END:VEVENT
BEGIN:VEVENT
DTSTART;VALUE=DATE:20220116
DTEND;VALUE=DATE:20220117
DTSTAMP:20260425T153201
CREATED:20230106T115441Z
LAST-MODIFIED:20230106T115441Z
UID:591-1642291200-1642377599@rccgmountzion.org
SUMMARY:FTDF
DESCRIPTION:
URL:https://rccgmountzion.org/event/ftdf-5/
END:VEVENT
BEGIN:VEVENT
DTSTART;VALUE=DATE:20220112
DTEND;VALUE=DATE:20220113
DTSTAMP:20260425T153201
CREATED:20230106T115522Z
LAST-MODIFIED:20230106T115522Z
UID:593-1641945600-1642031999@rccgmountzion.org
SUMMARY:Oasis Service
DESCRIPTION:
URL:https://rccgmountzion.org/event/oasis-service-6/
END:VEVENT
BEGIN:VEVENT
DTSTART;VALUE=DATE:20220109
DTEND;VALUE=DATE:20220110
DTSTAMP:20260425T153201
CREATED:20230106T115545Z
LAST-MODIFIED:20230106T115545Z
UID:595-1641686400-1641772799@rccgmountzion.org
SUMMARY:P&F Ends. A New Refreshing Year Eph. 3:20 (NKJV)
DESCRIPTION:
URL:https://rccgmountzion.org/event/pf-ends-a-new-refreshing-year-eph-320-nkjv/
END:VEVENT
BEGIN:VEVENT
DTSTART;VALUE=DATE:20220108
DTEND;VALUE=DATE:20220109
DTSTAMP:20260425T153201
CREATED:20230106T115634Z
LAST-MODIFIED:20230106T115634Z
UID:597-1641600000-1641686399@rccgmountzion.org
SUMMARY:P&F Kingdom Builders’ Appreciation
DESCRIPTION:
URL:https://rccgmountzion.org/event/pf-kingdom-builders-appreciation/
END:VEVENT
BEGIN:VEVENT
DTSTART;VALUE=DATE:20220107
DTEND;VALUE=DATE:20220108
DTSTAMP:20260425T153201
CREATED:20230106T115658Z
LAST-MODIFIED:20230106T115658Z
UID:599-1641513600-1641599999@rccgmountzion.org
SUMMARY:Night Vigil P&F
DESCRIPTION:
URL:https://rccgmountzion.org/event/night-vigil-pf/
END:VEVENT
BEGIN:VEVENT
DTSTART;VALUE=DATE:20220106
DTEND;VALUE=DATE:20220107
DTSTAMP:20260425T153201
CREATED:20230106T115721Z
LAST-MODIFIED:20230106T115721Z
UID:601-1641427200-1641513599@rccgmountzion.org
SUMMARY:P&F
DESCRIPTION:
URL:https://rccgmountzion.org/event/pf-25/
END:VEVENT
BEGIN:VEVENT
DTSTART;VALUE=DATE:20220105
DTEND;VALUE=DATE:20220106
DTSTAMP:20260425T153201
CREATED:20230106T115751Z
LAST-MODIFIED:20230106T115751Z
UID:603-1641340800-1641427199@rccgmountzion.org
SUMMARY:P&F Oasis Service
DESCRIPTION:
URL:https://rccgmountzion.org/event/pf-oasis-service-3/
END:VEVENT
BEGIN:VEVENT
DTSTART;VALUE=DATE:20220104
DTEND;VALUE=DATE:20220105
DTSTAMP:20260425T153201
CREATED:20230106T115818Z
LAST-MODIFIED:20230106T115818Z
UID:605-1641254400-1641340799@rccgmountzion.org
SUMMARY:P&F
DESCRIPTION:
URL:https://rccgmountzion.org/event/pf-26/
END:VEVENT
BEGIN:VEVENT
DTSTART;VALUE=DATE:20220103
DTEND;VALUE=DATE:20220104
DTSTAMP:20260425T153201
CREATED:20230106T115838Z
LAST-MODIFIED:20230106T115838Z
UID:607-1641168000-1641254399@rccgmountzion.org
SUMMARY:P&F Starts
DESCRIPTION:
URL:https://rccgmountzion.org/event/pf-starts/
END:VEVENT
BEGIN:VEVENT
DTSTART;VALUE=DATE:20220102
DTEND;VALUE=DATE:20220103
DTSTAMP:20260425T153201
CREATED:20230106T115902Z
LAST-MODIFIED:20230106T115902Z
UID:609-1641081600-1641167999@rccgmountzion.org
SUMMARY:Revival Isiah 40:29
DESCRIPTION:
URL:https://rccgmountzion.org/event/revival-isiah-4029/
END:VEVENT
BEGIN:VEVENT
DTSTART;VALUE=DATE:20220101
DTEND;VALUE=DATE:20220102
DTSTAMP:20260425T153201
CREATED:20230106T115948Z
LAST-MODIFIED:20230106T115948Z
UID:611-1640995200-1641081599@rccgmountzion.org
SUMMARY:New Year's Day
DESCRIPTION:
URL:https://rccgmountzion.org/event/new-years-day/
END:VEVENT
END:VCALENDAR