BEGIN:VCALENDAR
VERSION:2.0
PRODID:-//Mount Zion Parish - ECPv6.15.18//NONSGML v1.0//EN
CALSCALE:GREGORIAN
METHOD:PUBLISH
X-WR-CALNAME:Mount Zion Parish
X-ORIGINAL-URL:https://rccgmountzion.org
X-WR-CALDESC:Events for Mount Zion Parish
REFRESH-INTERVAL;VALUE=DURATION:PT1H
X-Robots-Tag:noindex
X-PUBLISHED-TTL:PT1H
BEGIN:VTIMEZONE
TZID:UTC
BEGIN:STANDARD
TZOFFSETFROM:+0000
TZOFFSETTO:+0000
TZNAME:UTC
DTSTART:20210101T000000
END:STANDARD
END:VTIMEZONE
BEGIN:VEVENT
DTSTART;VALUE=DATE:20220417
DTEND;VALUE=DATE:20220418
DTSTAMP:20260425T155735
CREATED:20230106T111149Z
LAST-MODIFIED:20230106T111149Z
UID:505-1650153600-1650239999@rccgmountzion.org
SUMMARY:The Power of Easter Easter Sunday Act 1: 8
DESCRIPTION:
URL:https://rccgmountzion.org/event/the-power-of-easter-easter-sunday-act-1-8/
END:VEVENT
BEGIN:VEVENT
DTSTART;VALUE=DATE:20220415
DTEND;VALUE=DATE:20220416
DTSTAMP:20260425T155735
CREATED:20230106T111217Z
LAST-MODIFIED:20230106T111217Z
UID:507-1649980800-1650067199@rccgmountzion.org
SUMMARY:Good Friday
DESCRIPTION:
URL:https://rccgmountzion.org/event/good-friday/
END:VEVENT
BEGIN:VEVENT
DTSTART;VALUE=DATE:20220410
DTEND;VALUE=DATE:20220411
DTSTAMP:20260425T155735
CREATED:20230106T111258Z
LAST-MODIFIED:20230106T111258Z
UID:509-1649548800-1649635199@rccgmountzion.org
SUMMARY:The power of money – Generosity Prov. 11:25
DESCRIPTION:
URL:https://rccgmountzion.org/event/the-power-of-money-generosity-prov-1125/
END:VEVENT
BEGIN:VEVENT
DTSTART;VALUE=DATE:20220403
DTEND;VALUE=DATE:20220404
DTSTAMP:20260425T155735
CREATED:20230106T111325Z
LAST-MODIFIED:20230106T111325Z
UID:511-1648944000-1649030399@rccgmountzion.org
SUMMARY:P&F The cost of following Jesus Luke 9:23
DESCRIPTION:
URL:https://rccgmountzion.org/event/pf-the-cost-of-following-jesus-luke-923/
END:VEVENT
BEGIN:VEVENT
DTSTART;VALUE=DATE:20220402
DTEND;VALUE=DATE:20220403
DTSTAMP:20260425T155735
CREATED:20230106T111352Z
LAST-MODIFIED:20230106T111352Z
UID:513-1648857600-1648943999@rccgmountzion.org
SUMMARY:P&F  Family connection training
DESCRIPTION:
URL:https://rccgmountzion.org/event/pf-family-connection-training/
END:VEVENT
BEGIN:VEVENT
DTSTART;VALUE=DATE:20220401
DTEND;VALUE=DATE:20220402
DTSTAMP:20260425T155735
CREATED:20230106T111414Z
LAST-MODIFIED:20230106T111414Z
UID:515-1648771200-1648857599@rccgmountzion.org
SUMMARY:P&F
DESCRIPTION:
URL:https://rccgmountzion.org/event/pf-20/
END:VEVENT
BEGIN:VEVENT
DTSTART;VALUE=DATE:20220330
DTEND;VALUE=DATE:20220331
DTSTAMP:20260425T155735
CREATED:20230106T113119Z
LAST-MODIFIED:20230106T113119Z
UID:517-1648598400-1648684799@rccgmountzion.org
SUMMARY:Oasis Service
DESCRIPTION:
URL:https://rccgmountzion.org/event/oasis-service/
END:VEVENT
BEGIN:VEVENT
DTSTART;VALUE=DATE:20220327
DTEND;VALUE=DATE:20220328
DTSTAMP:20260425T155735
CREATED:20230106T113201Z
LAST-MODIFIED:20230106T113201Z
UID:519-1648339200-1648425599@rccgmountzion.org
SUMMARY:Sunday school Day/ Casual Sunday Don’t give upon your phase Eccl. 3:11(NLT)
DESCRIPTION:
URL:https://rccgmountzion.org/event/sunday-school-day-casual-sunday-dont-give-upon-your-phase-eccl-311nlt/
END:VEVENT
BEGIN:VEVENT
DTSTART;VALUE=DATE:20220326
DTEND;VALUE=DATE:20220327
DTSTAMP:20260425T155735
CREATED:20230106T113227Z
LAST-MODIFIED:20230106T113227Z
UID:521-1648252800-1648339199@rccgmountzion.org
SUMMARY:KB Retreat
DESCRIPTION:
URL:https://rccgmountzion.org/event/kb-retreat/
END:VEVENT
BEGIN:VEVENT
DTSTART;VALUE=DATE:20220323
DTEND;VALUE=DATE:20220324
DTSTAMP:20260425T155735
CREATED:20230106T113308Z
LAST-MODIFIED:20230106T113308Z
UID:523-1647993600-1648079999@rccgmountzion.org
SUMMARY:Oasis Service
DESCRIPTION:
URL:https://rccgmountzion.org/event/oasis-service-2/
END:VEVENT
BEGIN:VEVENT
DTSTART;VALUE=DATE:20220320
DTEND;VALUE=DATE:20220321
DTSTAMP:20260425T155735
CREATED:20230106T113338Z
LAST-MODIFIED:20230106T113338Z
UID:525-1647734400-1647820799@rccgmountzion.org
SUMMARY:FTDF
DESCRIPTION:
URL:https://rccgmountzion.org/event/ftdf-4/
END:VEVENT
BEGIN:VEVENT
DTSTART;VALUE=DATE:20220319
DTEND;VALUE=DATE:20220320
DTSTAMP:20260425T155735
CREATED:20230106T113417Z
LAST-MODIFIED:20230106T113417Z
UID:527-1647648000-1647734399@rccgmountzion.org
SUMMARY:WIM 2022 Conference
DESCRIPTION:
URL:https://rccgmountzion.org/event/wim-2022-conference/
END:VEVENT
BEGIN:VEVENT
DTSTART;VALUE=DATE:20220318
DTEND;VALUE=DATE:20220319
DTSTAMP:20260425T155735
CREATED:20230106T113507Z
LAST-MODIFIED:20230106T113507Z
UID:530-1647561600-1647647999@rccgmountzion.org
SUMMARY:WIM 2022 Conference
DESCRIPTION:
URL:https://rccgmountzion.org/event/wim-2022-conference-2/
END:VEVENT
BEGIN:VEVENT
DTSTART;VALUE=DATE:20220317
DTEND;VALUE=DATE:20220318
DTSTAMP:20260425T155735
CREATED:20230106T113541Z
LAST-MODIFIED:20230106T113541Z
UID:532-1647475200-1647561599@rccgmountzion.org
SUMMARY:WIM 2022 Conference
DESCRIPTION:
URL:https://rccgmountzion.org/event/wim-2022-conference-3/
END:VEVENT
BEGIN:VEVENT
DTSTART;VALUE=DATE:20220316
DTEND;VALUE=DATE:20220317
DTSTAMP:20260425T155735
CREATED:20230106T113606Z
LAST-MODIFIED:20230106T113606Z
UID:534-1647388800-1647475199@rccgmountzion.org
SUMMARY:Communion @ Oasis
DESCRIPTION:
URL:https://rccgmountzion.org/event/communion-oasis-9/
END:VEVENT
BEGIN:VEVENT
DTSTART;VALUE=DATE:20220313
DTEND;VALUE=DATE:20220314
DTSTAMP:20260425T155735
CREATED:20230106T113632Z
LAST-MODIFIED:20230106T113632Z
UID:536-1647129600-1647215999@rccgmountzion.org
SUMMARY:KICON Children’s Day Parenting phase
DESCRIPTION:
URL:https://rccgmountzion.org/event/kicon-childrens-day-parenting-phase/
END:VEVENT
BEGIN:VEVENT
DTSTART;VALUE=DATE:20220312
DTEND;VALUE=DATE:20220313
DTSTAMP:20260425T155735
CREATED:20230106T113705Z
LAST-MODIFIED:20230106T113705Z
UID:538-1647043200-1647129599@rccgmountzion.org
SUMMARY:SOD Teachers training Water Baptism
DESCRIPTION:
URL:https://rccgmountzion.org/event/sod-teachers-training-water-baptism/
END:VEVENT
BEGIN:VEVENT
DTSTART;VALUE=DATE:20220309
DTEND;VALUE=DATE:20220310
DTSTAMP:20260425T155735
CREATED:20230106T113732Z
LAST-MODIFIED:20230106T113732Z
UID:540-1646784000-1646870399@rccgmountzion.org
SUMMARY:Oasis Service
DESCRIPTION:
URL:https://rccgmountzion.org/event/oasis-service-3/
END:VEVENT
BEGIN:VEVENT
DTSTART;VALUE=DATE:20220306
DTEND;VALUE=DATE:20220307
DTSTAMP:20260425T155735
CREATED:20230106T113754Z
LAST-MODIFIED:20230106T113754Z
UID:542-1646524800-1646611199@rccgmountzion.org
SUMMARY:Missions Sunday Phases of Life Heb. 10:36 NIV
DESCRIPTION:
URL:https://rccgmountzion.org/event/missions-sunday-phases-of-life-heb-1036-niv/
END:VEVENT
BEGIN:VEVENT
DTSTART;VALUE=DATE:20220305
DTEND;VALUE=DATE:20220306
DTSTAMP:20260425T155735
CREATED:20230106T113825Z
LAST-MODIFIED:20230106T113825Z
UID:544-1646438400-1646524799@rccgmountzion.org
SUMMARY:Spring Cleaning
DESCRIPTION:
URL:https://rccgmountzion.org/event/spring-cleaning/
END:VEVENT
BEGIN:VEVENT
DTSTART;VALUE=DATE:20220303
DTEND;VALUE=DATE:20220304
DTSTAMP:20260425T155735
CREATED:20230106T113848Z
LAST-MODIFIED:20230106T113848Z
UID:546-1646265600-1646351999@rccgmountzion.org
SUMMARY:P&F
DESCRIPTION:
URL:https://rccgmountzion.org/event/pf-21/
END:VEVENT
BEGIN:VEVENT
DTSTART;VALUE=DATE:20220302
DTEND;VALUE=DATE:20220303
DTSTAMP:20260425T155735
CREATED:20230106T113911Z
LAST-MODIFIED:20230106T113911Z
UID:548-1646179200-1646265599@rccgmountzion.org
SUMMARY:P&F Oasis Service
DESCRIPTION:
URL:https://rccgmountzion.org/event/pf-oasis-service/
END:VEVENT
BEGIN:VEVENT
DTSTART;VALUE=DATE:20220301
DTEND;VALUE=DATE:20220302
DTSTAMP:20260425T155735
CREATED:20230106T114024Z
LAST-MODIFIED:20230106T114024Z
UID:550-1646092800-1646179199@rccgmountzion.org
SUMMARY:P&F
DESCRIPTION:
URL:https://rccgmountzion.org/event/pf-22/
END:VEVENT
BEGIN:VEVENT
DTSTART;VALUE=DATE:20220227
DTEND;VALUE=DATE:20220228
DTSTAMP:20260425T155735
CREATED:20230106T114429Z
LAST-MODIFIED:20230106T114429Z
UID:552-1645920000-1646006399@rccgmountzion.org
SUMMARY:Eternal Judgement Matthew 3:12
DESCRIPTION:
URL:https://rccgmountzion.org/event/eternal-judgement-matthew-312/
END:VEVENT
BEGIN:VEVENT
DTSTART;VALUE=DATE:20220223
DTEND;VALUE=DATE:20220224
DTSTAMP:20260425T155735
CREATED:20230106T114501Z
LAST-MODIFIED:20230106T114501Z
UID:554-1645574400-1645660799@rccgmountzion.org
SUMMARY:Oasis Service
DESCRIPTION:
URL:https://rccgmountzion.org/event/oasis-service-4/
END:VEVENT
BEGIN:VEVENT
DTSTART;VALUE=DATE:20220221
DTEND;VALUE=DATE:20220222
DTSTAMP:20260425T155735
CREATED:20230106T114524Z
LAST-MODIFIED:20230106T114524Z
UID:557-1645401600-1645487999@rccgmountzion.org
SUMMARY:Presidents' Day
DESCRIPTION:
URL:https://rccgmountzion.org/event/presidents-day/
END:VEVENT
BEGIN:VEVENT
DTSTART;VALUE=DATE:20220220
DTEND;VALUE=DATE:20220221
DTSTAMP:20260425T155735
CREATED:20230106T114556Z
LAST-MODIFIED:20230106T114556Z
UID:559-1645315200-1645401599@rccgmountzion.org
SUMMARY:FDTF
DESCRIPTION:
URL:https://rccgmountzion.org/event/fdtf-2/
END:VEVENT
BEGIN:VEVENT
DTSTART;VALUE=DATE:20220219
DTEND;VALUE=DATE:20220220
DTSTAMP:20260425T155735
CREATED:20230106T114628Z
LAST-MODIFIED:20230106T114628Z
UID:561-1645228800-1645315199@rccgmountzion.org
SUMMARY:Couples’ Retreat
DESCRIPTION:
URL:https://rccgmountzion.org/event/couples-retreat/
END:VEVENT
BEGIN:VEVENT
DTSTART;VALUE=DATE:20220218
DTEND;VALUE=DATE:20220219
DTSTAMP:20260425T155735
CREATED:20230106T114754Z
LAST-MODIFIED:20230106T114754Z
UID:563-1645142400-1645228799@rccgmountzion.org
SUMMARY:Couples’ Retreat
DESCRIPTION:
URL:https://rccgmountzion.org/event/couples-retreat-2/
END:VEVENT
BEGIN:VEVENT
DTSTART;VALUE=DATE:20220216
DTEND;VALUE=DATE:20220217
DTSTAMP:20260425T155735
CREATED:20230106T114817Z
LAST-MODIFIED:20230106T114817Z
UID:565-1644969600-1645055999@rccgmountzion.org
SUMMARY:Communion @ Oasis
DESCRIPTION:
URL:https://rccgmountzion.org/event/communion-oasis-10/
END:VEVENT
END:VCALENDAR