BEGIN:VCALENDAR
VERSION:2.0
PRODID:-//Mount Zion Parish - ECPv6.15.18//NONSGML v1.0//EN
CALSCALE:GREGORIAN
METHOD:PUBLISH
X-ORIGINAL-URL:https://rccgmountzion.org
X-WR-CALDESC:Events for Mount Zion Parish
REFRESH-INTERVAL;VALUE=DURATION:PT1H
X-Robots-Tag:noindex
X-PUBLISHED-TTL:PT1H
BEGIN:VTIMEZONE
TZID:UTC
BEGIN:STANDARD
TZOFFSETFROM:+0000
TZOFFSETTO:+0000
TZNAME:UTC
DTSTART:20240101T000000
END:STANDARD
END:VTIMEZONE
BEGIN:VEVENT
DTSTART;TZID=UTC:20250610T160000
DTEND;TZID=UTC:20250613T200000
DTSTAMP:20260425T114810
CREATED:20250528T054623Z
LAST-MODIFIED:20250602T053651Z
UID:1471-1749571200-1749844800@rccgmountzion.org
SUMMARY:RCCG Mount Zion Summer Camp 2025
DESCRIPTION:We are so excited for a week full of faith\, fun\, games\, crafts\, music\, and Bible lessons. VBS is a special time where kids can grow in their relationship with Jesus\, make new friends\, and create amazing memories. \n Dates: June 10-13\, 2025 \n Time: 4pm to 8pm \n Location: 5405 Jonesboro Rd\, Lake City\, GA 30260 \n Who can attend: Ages 5 through 12 \nFood will be provided each day. \n$25 is the cost of registration\, which will be collected on the first day. CASH ONLY.
URL:https://rccgmountzion.org/event/rccg-mount-zion-summer-camp-2025/
ATTACH;FMTTYPE=image/jpeg:https://rccgmountzion.org/wp-content/uploads/2025/05/image0.jpg
END:VEVENT
BEGIN:VEVENT
DTSTART;TZID=UTC:20250719T110000
DTEND;TZID=UTC:20250719T150000
DTSTAMP:20260425T114810
CREATED:20250605T064718Z
LAST-MODIFIED:20250605T065028Z
UID:1479-1752922800-1752937200@rccgmountzion.org
SUMMARY:Back to School Community Health Fair
DESCRIPTION: GET READY\, LAKE CITY! \nYou’re invited to our Back to School Community Health Fair\n Saturday\, July 19\, 2025\n 11:00 AM\n 5405 Jonesboro Road\, Lake City\, GA 30260\n FREE for EVERYONE! \nLet’s kick off the school year right – with fun\, health\, and support for the whole family! \nCome out for: \n Free Backpacks & School Supplies\n Free Haircuts & Braiding\n Free Food & Snacks\n Free Health Screenings\n Music\, Dancing\, Games\, Water Slides & More! \n First come\, first served — While supplies last! \nProudly sponsored by the City of Lake City\, Place of Hope Clinic\, and RCCG Mount Zion. \n Scan the QR code to register!
URL:https://rccgmountzion.org/event/back-to-school-community-health-fair/
ATTACH;FMTTYPE=image/jpeg:https://rccgmountzion.org/wp-content/uploads/2025/06/back-to-school-2025.jpg
END:VEVENT
BEGIN:VEVENT
DTSTART;TZID=UTC:20251220T160000
DTEND;TZID=UTC:20251220T200000
DTSTAMP:20260425T114810
CREATED:20251124T055102Z
LAST-MODIFIED:20251124T055102Z
UID:1566-1766246400-1766260800@rccgmountzion.org
SUMMARY:Christmas in Lake City!
DESCRIPTION:Join Place of Hope Inc. and RCCG Mount Zion Parish on Saturday\, December 20th\, 2025\, from 4 PM to 8 PM for an evening filled with joy\, laughter\, and family fun!\nEnjoy Christmas carols\, toy and gift giveaways\, hot cocoa\, BBQ\, and more – all while supplies last! Bring your loved ones and celebrate the season of giving and hope.
URL:https://rccgmountzion.org/event/christmas-in-lake-city-3/
ATTACH;FMTTYPE=image/jpeg:https://rccgmountzion.org/wp-content/uploads/2025/11/WhatsApp-Image-2025-11-04-at-14.59.56_bb0d1e84.jpg
END:VEVENT
BEGIN:VEVENT
DTSTART;TZID=UTC:20260404T130000
DTEND;TZID=UTC:20260404T160000
DTSTAMP:20260425T114810
CREATED:20260314T055631Z
LAST-MODIFIED:20260318T054412Z
UID:1577-1775307600-1775318400@rccgmountzion.org
SUMMARY:Easter in Lake City
DESCRIPTION:Join us for a joyful community celebration at RCCG Mount Zion in partnership with Place of Hope Clinic for Easter in Lake City!\nBring your family and friends for an afternoon filled with free food\, free gift items\, fun for kids\, prayers\, and more. This is a wonderful opportunity to celebrate the hope of Easter together and connect with the community.\n Saturday\, April 4\, 2026\n 1:00 PM\n 5405 Jonesboro Rd\, Morrow\, GA 30260\n All while supplies last!\n Scan the QR code to register\n For questions: 888-449-6693\nWe can’t wait to celebrate with you!
URL:https://rccgmountzion.org/event/easter-in-lake-city/
ATTACH;FMTTYPE=image/jpeg:https://rccgmountzion.org/wp-content/uploads/2026/03/WhatsApp-Image-2026-03-13-at-2.08.10-PM.jpeg
END:VEVENT
END:VCALENDAR