BEGIN:VCALENDAR
VERSION:2.0
PRODID:-//Mount Zion Parish - ECPv6.15.18//NONSGML v1.0//EN
CALSCALE:GREGORIAN
METHOD:PUBLISH
X-WR-CALNAME:Mount Zion Parish
X-ORIGINAL-URL:https://rccgmountzion.org
X-WR-CALDESC:Events for Mount Zion Parish
REFRESH-INTERVAL;VALUE=DURATION:PT1H
X-Robots-Tag:noindex
X-PUBLISHED-TTL:PT1H
BEGIN:VTIMEZONE
TZID:UTC
BEGIN:STANDARD
TZOFFSETFROM:+0000
TZOFFSETTO:+0000
TZNAME:UTC
DTSTART:20210101T000000
END:STANDARD
END:VTIMEZONE
BEGIN:VEVENT
DTSTART;VALUE=DATE:20220615
DTEND;VALUE=DATE:20220616
DTSTAMP:20260425T152129
CREATED:20230106T105802Z
LAST-MODIFIED:20230106T105802Z
UID:457-1655251200-1655337599@rccgmountzion.org
SUMMARY:Communion @ Oasis
DESCRIPTION:
URL:https://rccgmountzion.org/event/communion-oasis-6/
END:VEVENT
BEGIN:VEVENT
DTSTART;VALUE=DATE:20220612
DTEND;VALUE=DATE:20220613
DTSTAMP:20260425T152129
CREATED:20230106T105825Z
LAST-MODIFIED:20230106T105825Z
UID:459-1654992000-1655078399@rccgmountzion.org
SUMMARY:Worry & Contentment Luke 12:22-23
DESCRIPTION:
URL:https://rccgmountzion.org/event/worry-contentment-luke-1222-23/
END:VEVENT
BEGIN:VEVENT
DTSTART;VALUE=DATE:20220611
DTEND;VALUE=DATE:20220612
DTSTAMP:20260425T152129
CREATED:20230106T105859Z
LAST-MODIFIED:20230106T105859Z
UID:461-1654905600-1654991999@rccgmountzion.org
SUMMARY:KICON Summer Trip Water Baptism
DESCRIPTION:
URL:https://rccgmountzion.org/event/kicon-summer-trip-water-baptism/
END:VEVENT
BEGIN:VEVENT
DTSTART;VALUE=DATE:20220610
DTEND;VALUE=DATE:20220611
DTSTAMP:20260425T152129
CREATED:20230106T105930Z
LAST-MODIFIED:20230106T105930Z
UID:463-1654819200-1654905599@rccgmountzion.org
SUMMARY:KICON Summer Trip
DESCRIPTION:
URL:https://rccgmountzion.org/event/kicon-summer-trip/
END:VEVENT
BEGIN:VEVENT
DTSTART;VALUE=DATE:20220609
DTEND;VALUE=DATE:20220610
DTSTAMP:20260425T152129
CREATED:20230106T105957Z
LAST-MODIFIED:20230106T105957Z
UID:465-1654732800-1654819199@rccgmountzion.org
SUMMARY:KICON Summer Trip
DESCRIPTION:
URL:https://rccgmountzion.org/event/kicon-summer-trip-2/
END:VEVENT
BEGIN:VEVENT
DTSTART;VALUE=DATE:20220605
DTEND;VALUE=DATE:20220606
DTSTAMP:20260425T152129
CREATED:20230106T110019Z
LAST-MODIFIED:20230106T110019Z
UID:467-1654387200-1654473599@rccgmountzion.org
SUMMARY:Be contented Phil. 4:10-13
DESCRIPTION:
URL:https://rccgmountzion.org/event/be-contented-phil-410-13/
END:VEVENT
BEGIN:VEVENT
DTSTART;VALUE=DATE:20220603
DTEND;VALUE=DATE:20220604
DTSTAMP:20260425T152129
CREATED:20230106T110040Z
LAST-MODIFIED:20230106T110040Z
UID:469-1654214400-1654300799@rccgmountzion.org
SUMMARY:P&F
DESCRIPTION:
URL:https://rccgmountzion.org/event/pf-15/
END:VEVENT
BEGIN:VEVENT
DTSTART;VALUE=DATE:20220602
DTEND;VALUE=DATE:20220603
DTSTAMP:20260425T152129
CREATED:20230106T110058Z
LAST-MODIFIED:20230106T110058Z
UID:471-1654128000-1654214399@rccgmountzion.org
SUMMARY:P&F
DESCRIPTION:
URL:https://rccgmountzion.org/event/pf-16/
END:VEVENT
BEGIN:VEVENT
DTSTART;VALUE=DATE:20220601
DTEND;VALUE=DATE:20220602
DTSTAMP:20260425T152129
CREATED:20230106T110127Z
LAST-MODIFIED:20230106T110127Z
UID:473-1654041600-1654127999@rccgmountzion.org
SUMMARY:P&F
DESCRIPTION:
URL:https://rccgmountzion.org/event/pf-17/
END:VEVENT
BEGIN:VEVENT
DTSTART;VALUE=DATE:20220530
DTEND;VALUE=DATE:20220531
DTSTAMP:20260425T152129
CREATED:20230106T110244Z
LAST-MODIFIED:20230106T110244Z
UID:475-1653868800-1653955199@rccgmountzion.org
SUMMARY:Memorial Day
DESCRIPTION:
URL:https://rccgmountzion.org/event/memorial-day/
END:VEVENT
BEGIN:VEVENT
DTSTART;VALUE=DATE:20220529
DTEND;VALUE=DATE:20220530
DTSTAMP:20260425T152129
CREATED:20230106T110312Z
LAST-MODIFIED:20230106T110312Z
UID:477-1653782400-1653868799@rccgmountzion.org
SUMMARY:Redeemed by the Redeemer Ruth 4:15
DESCRIPTION:
URL:https://rccgmountzion.org/event/redeemed-by-the-redeemer-ruth-415/
END:VEVENT
BEGIN:VEVENT
DTSTART;VALUE=DATE:20220522
DTEND;VALUE=DATE:20220523
DTSTAMP:20260425T152129
CREATED:20230106T110346Z
LAST-MODIFIED:20230106T110346Z
UID:479-1653177600-1653263999@rccgmountzion.org
SUMMARY:Redeemed into God’s agenda Ruth 3:10 Pst Emah
DESCRIPTION:
URL:https://rccgmountzion.org/event/redeemed-into-gods-agenda-ruth-310-pst-emah/
END:VEVENT
BEGIN:VEVENT
DTSTART;VALUE=DATE:20220518
DTEND;VALUE=DATE:20220519
DTSTAMP:20260425T152129
CREATED:20230106T110421Z
LAST-MODIFIED:20230106T110421Z
UID:481-1652832000-1652918399@rccgmountzion.org
SUMMARY:Communion @ Oasis
DESCRIPTION:
URL:https://rccgmountzion.org/event/communion-oasis-7/
END:VEVENT
BEGIN:VEVENT
DTSTART;VALUE=DATE:20220515
DTEND;VALUE=DATE:20220516
DTSTAMP:20260425T152129
CREATED:20230106T110456Z
LAST-MODIFIED:20230106T110456Z
UID:483-1652572800-1652659199@rccgmountzion.org
SUMMARY:Redemption from bitterness Ruth 1:5 Bro Paul
DESCRIPTION:
URL:https://rccgmountzion.org/event/redemption-from-bitterness-ruth-15-bro-paul/
END:VEVENT
BEGIN:VEVENT
DTSTART;VALUE=DATE:20220511
DTEND;VALUE=DATE:20220512
DTSTAMP:20260425T152129
CREATED:20230106T110529Z
LAST-MODIFIED:20230106T110529Z
UID:485-1652227200-1652313599@rccgmountzion.org
SUMMARY:The Blessing ceremony @ Oasis
DESCRIPTION:
URL:https://rccgmountzion.org/event/the-blessing-ceremony-oasis-2/
END:VEVENT
BEGIN:VEVENT
DTSTART;VALUE=DATE:20220508
DTEND;VALUE=DATE:20220509
DTSTAMP:20260425T152129
CREATED:20230106T110607Z
LAST-MODIFIED:20230106T110607Z
UID:487-1651968000-1652054399@rccgmountzion.org
SUMMARY:Mother's DayThanksgiving
DESCRIPTION:
URL:https://rccgmountzion.org/event/mothers-daythanksgiving/
END:VEVENT
BEGIN:VEVENT
DTSTART;VALUE=DATE:20220507
DTEND;VALUE=DATE:20220508
DTSTAMP:20260425T152129
CREATED:20230106T110634Z
LAST-MODIFIED:20230106T110634Z
UID:489-1651881600-1651967999@rccgmountzion.org
SUMMARY:Mother's Day Weekend
DESCRIPTION:
URL:https://rccgmountzion.org/event/mothers-day-weekend/
END:VEVENT
BEGIN:VEVENT
DTSTART;VALUE=DATE:20220506
DTEND;VALUE=DATE:20220507
DTSTAMP:20260425T152129
CREATED:20230106T110711Z
LAST-MODIFIED:20230106T110711Z
UID:491-1651795200-1651881599@rccgmountzion.org
SUMMARY:Mother's Day Weekend
DESCRIPTION:
URL:https://rccgmountzion.org/event/mothers-day-weekend-2/
END:VEVENT
BEGIN:VEVENT
DTSTART;VALUE=DATE:20220503
DTEND;VALUE=DATE:20220504
DTSTAMP:20260425T152129
CREATED:20230106T110759Z
LAST-MODIFIED:20230106T110759Z
UID:493-1651536000-1651622399@rccgmountzion.org
SUMMARY:P&F
DESCRIPTION:
URL:https://rccgmountzion.org/event/pf-18/
END:VEVENT
BEGIN:VEVENT
DTSTART;VALUE=DATE:20220502
DTEND;VALUE=DATE:20220503
DTSTAMP:20260425T152129
CREATED:20230106T110821Z
LAST-MODIFIED:20230106T110821Z
UID:495-1651449600-1651535999@rccgmountzion.org
SUMMARY:P&F
DESCRIPTION:
URL:https://rccgmountzion.org/event/pf-19/
END:VEVENT
BEGIN:VEVENT
DTSTART;VALUE=DATE:20220501
DTEND;VALUE=DATE:20220502
DTSTAMP:20260425T152129
CREATED:20230106T110846Z
LAST-MODIFIED:20230106T110846Z
UID:497-1651363200-1651449599@rccgmountzion.org
SUMMARY:P&F Redemption from Sin Pastor Kayode Paul
DESCRIPTION:
URL:https://rccgmountzion.org/event/pf-redemption-from-sin-pastor-kayode-paul/
END:VEVENT
BEGIN:VEVENT
DTSTART;VALUE=DATE:20220430
DTEND;VALUE=DATE:20220501
DTSTAMP:20260425T152129
CREATED:20230106T110950Z
LAST-MODIFIED:20230106T110950Z
UID:499-1651276800-1651363199@rccgmountzion.org
SUMMARY:Sunday school Teachers Training
DESCRIPTION:
URL:https://rccgmountzion.org/event/sunday-school-teachers-training/
END:VEVENT
BEGIN:VEVENT
DTSTART;VALUE=DATE:20220423
DTEND;VALUE=DATE:20220424
DTSTAMP:20260425T152129
CREATED:20230106T111049Z
LAST-MODIFIED:20230106T111049Z
UID:501-1650672000-1650758399@rccgmountzion.org
SUMMARY:MOV Breakfast withPastor
DESCRIPTION:
URL:https://rccgmountzion.org/event/mov-breakfast-withpastor/
END:VEVENT
BEGIN:VEVENT
DTSTART;VALUE=DATE:20220420
DTEND;VALUE=DATE:20220421
DTSTAMP:20260425T152129
CREATED:20230106T111114Z
LAST-MODIFIED:20230106T111114Z
UID:503-1650412800-1650499199@rccgmountzion.org
SUMMARY:Communion @ Oasis
DESCRIPTION:
URL:https://rccgmountzion.org/event/communion-oasis-8/
END:VEVENT
BEGIN:VEVENT
DTSTART;VALUE=DATE:20220417
DTEND;VALUE=DATE:20220418
DTSTAMP:20260425T152129
CREATED:20230106T111149Z
LAST-MODIFIED:20230106T111149Z
UID:505-1650153600-1650239999@rccgmountzion.org
SUMMARY:The Power of Easter Easter Sunday Act 1: 8
DESCRIPTION:
URL:https://rccgmountzion.org/event/the-power-of-easter-easter-sunday-act-1-8/
END:VEVENT
BEGIN:VEVENT
DTSTART;VALUE=DATE:20220415
DTEND;VALUE=DATE:20220416
DTSTAMP:20260425T152129
CREATED:20230106T111217Z
LAST-MODIFIED:20230106T111217Z
UID:507-1649980800-1650067199@rccgmountzion.org
SUMMARY:Good Friday
DESCRIPTION:
URL:https://rccgmountzion.org/event/good-friday/
END:VEVENT
BEGIN:VEVENT
DTSTART;VALUE=DATE:20220410
DTEND;VALUE=DATE:20220411
DTSTAMP:20260425T152129
CREATED:20230106T111258Z
LAST-MODIFIED:20230106T111258Z
UID:509-1649548800-1649635199@rccgmountzion.org
SUMMARY:The power of money – Generosity Prov. 11:25
DESCRIPTION:
URL:https://rccgmountzion.org/event/the-power-of-money-generosity-prov-1125/
END:VEVENT
BEGIN:VEVENT
DTSTART;VALUE=DATE:20220403
DTEND;VALUE=DATE:20220404
DTSTAMP:20260425T152129
CREATED:20230106T111325Z
LAST-MODIFIED:20230106T111325Z
UID:511-1648944000-1649030399@rccgmountzion.org
SUMMARY:P&F The cost of following Jesus Luke 9:23
DESCRIPTION:
URL:https://rccgmountzion.org/event/pf-the-cost-of-following-jesus-luke-923/
END:VEVENT
BEGIN:VEVENT
DTSTART;VALUE=DATE:20220402
DTEND;VALUE=DATE:20220403
DTSTAMP:20260425T152129
CREATED:20230106T111352Z
LAST-MODIFIED:20230106T111352Z
UID:513-1648857600-1648943999@rccgmountzion.org
SUMMARY:P&F  Family connection training
DESCRIPTION:
URL:https://rccgmountzion.org/event/pf-family-connection-training/
END:VEVENT
BEGIN:VEVENT
DTSTART;VALUE=DATE:20220401
DTEND;VALUE=DATE:20220402
DTSTAMP:20260425T152129
CREATED:20230106T111414Z
LAST-MODIFIED:20230106T111414Z
UID:515-1648771200-1648857599@rccgmountzion.org
SUMMARY:P&F
DESCRIPTION:
URL:https://rccgmountzion.org/event/pf-20/
END:VEVENT
END:VCALENDAR