BEGIN:VCALENDAR
VERSION:2.0
PRODID:-//Mount Zion Parish - ECPv6.15.18//NONSGML v1.0//EN
CALSCALE:GREGORIAN
METHOD:PUBLISH
X-WR-CALNAME:Mount Zion Parish
X-ORIGINAL-URL:https://rccgmountzion.org
X-WR-CALDESC:Events for Mount Zion Parish
REFRESH-INTERVAL;VALUE=DURATION:PT1H
X-Robots-Tag:noindex
X-PUBLISHED-TTL:PT1H
BEGIN:VTIMEZONE
TZID:UTC
BEGIN:STANDARD
TZOFFSETFROM:+0000
TZOFFSETTO:+0000
TZNAME:UTC
DTSTART:20210101T000000
END:STANDARD
END:VTIMEZONE
BEGIN:VEVENT
DTSTART;VALUE=DATE:20220923
DTEND;VALUE=DATE:20220924
DTSTAMP:20260425T135755
CREATED:20230106T103749Z
LAST-MODIFIED:20230106T103749Z
UID:387-1663891200-1663977599@rccgmountzion.org
SUMMARY:DOZ Ladies Night-out
DESCRIPTION:
URL:https://rccgmountzion.org/event/doz-ladies-night-out/
END:VEVENT
BEGIN:VEVENT
DTSTART;VALUE=DATE:20220921
DTEND;VALUE=DATE:20220922
DTSTAMP:20260425T135755
CREATED:20230106T103827Z
LAST-MODIFIED:20230106T103827Z
UID:389-1663718400-1663804799@rccgmountzion.org
SUMMARY:Communion @ Oasis
DESCRIPTION:
URL:https://rccgmountzion.org/event/communion-oasis-3/
END:VEVENT
BEGIN:VEVENT
DTSTART;VALUE=DATE:20220918
DTEND;VALUE=DATE:20220919
DTSTAMP:20260425T135755
CREATED:20230106T103910Z
LAST-MODIFIED:20230106T103916Z
UID:391-1663459200-1663545599@rccgmountzion.org
SUMMARY:FTDF
DESCRIPTION:
URL:https://rccgmountzion.org/event/ftdf-2/
END:VEVENT
BEGIN:VEVENT
DTSTART;VALUE=DATE:20220911
DTEND;VALUE=DATE:20220912
DTSTAMP:20260425T135755
CREATED:20230106T103939Z
LAST-MODIFIED:20230106T103939Z
UID:393-1662854400-1662940799@rccgmountzion.org
SUMMARY:Culture of outrage Prov. 16:32
DESCRIPTION:
URL:https://rccgmountzion.org/event/culture-of-outrage-prov-1632/
END:VEVENT
BEGIN:VEVENT
DTSTART;VALUE=DATE:20220910
DTEND;VALUE=DATE:20220911
DTSTAMP:20260425T135755
CREATED:20230106T104038Z
LAST-MODIFIED:20230106T104038Z
UID:395-1662768000-1662854399@rccgmountzion.org
SUMMARY:Breakfast with Pastor Tony(House Fellowship) Water Baptism
DESCRIPTION:
URL:https://rccgmountzion.org/event/breakfast-with-pastor-tonyhouse-fellowship-water-baptism/
END:VEVENT
BEGIN:VEVENT
DTSTART;VALUE=DATE:20220905
DTEND;VALUE=DATE:20220906
DTSTAMP:20260425T135755
CREATED:20230106T104104Z
LAST-MODIFIED:20230106T104104Z
UID:397-1662336000-1662422399@rccgmountzion.org
SUMMARY:Labor Day
DESCRIPTION:
URL:https://rccgmountzion.org/event/labor-day/
END:VEVENT
BEGIN:VEVENT
DTSTART;VALUE=DATE:20220904
DTEND;VALUE=DATE:20220905
DTSTAMP:20260425T135755
CREATED:20230106T104146Z
LAST-MODIFIED:20230106T104146Z
UID:399-1662249600-1662335999@rccgmountzion.org
SUMMARY:Loving is hard\, why? I John 4: 7
DESCRIPTION:
URL:https://rccgmountzion.org/event/loving-is-hard-why-i-john-4-7/
END:VEVENT
BEGIN:VEVENT
DTSTART;VALUE=DATE:20220903
DTEND;VALUE=DATE:20220904
DTSTAMP:20260425T135755
CREATED:20230106T104218Z
LAST-MODIFIED:20230106T104218Z
UID:401-1662163200-1662249599@rccgmountzion.org
SUMMARY:P&F
DESCRIPTION:
URL:https://rccgmountzion.org/event/pf-9/
END:VEVENT
BEGIN:VEVENT
DTSTART;VALUE=DATE:20220902
DTEND;VALUE=DATE:20220903
DTSTAMP:20260425T135755
CREATED:20230106T104239Z
LAST-MODIFIED:20230106T104239Z
UID:403-1662076800-1662163199@rccgmountzion.org
SUMMARY:P&F
DESCRIPTION:
URL:https://rccgmountzion.org/event/pf-10/
END:VEVENT
BEGIN:VEVENT
DTSTART;VALUE=DATE:20220901
DTEND;VALUE=DATE:20220902
DTSTAMP:20260425T135755
CREATED:20230106T104300Z
LAST-MODIFIED:20230106T104300Z
UID:405-1661990400-1662076799@rccgmountzion.org
SUMMARY:P&F
DESCRIPTION:
URL:https://rccgmountzion.org/event/pf-11/
END:VEVENT
BEGIN:VEVENT
DTSTART;VALUE=DATE:20220828
DTEND;VALUE=DATE:20220829
DTSTAMP:20260425T135755
CREATED:20230106T104405Z
LAST-MODIFIED:20230106T104405Z
UID:407-1661644800-1661731199@rccgmountzion.org
SUMMARY:Looking beyond Anger Gal. 5: 22-23
DESCRIPTION:
URL:https://rccgmountzion.org/event/looking-beyond-anger-gal-5-22-23/
END:VEVENT
BEGIN:VEVENT
DTSTART;VALUE=DATE:20220821
DTEND;VALUE=DATE:20220822
DTSTAMP:20260425T135755
CREATED:20230106T104500Z
LAST-MODIFIED:20230106T104500Z
UID:409-1661040000-1661126399@rccgmountzion.org
SUMMARY:FTDF
DESCRIPTION:
URL:https://rccgmountzion.org/event/ftdf-3/
END:VEVENT
BEGIN:VEVENT
DTSTART;VALUE=DATE:20220820
DTEND;VALUE=DATE:20220821
DTSTAMP:20260425T135755
CREATED:20230106T104528Z
LAST-MODIFIED:20230106T104528Z
UID:411-1660953600-1661039999@rccgmountzion.org
SUMMARY:Power Up
DESCRIPTION:
URL:https://rccgmountzion.org/event/power-up/
END:VEVENT
BEGIN:VEVENT
DTSTART;VALUE=DATE:20220819
DTEND;VALUE=DATE:20220820
DTSTAMP:20260425T135755
CREATED:20230106T104608Z
LAST-MODIFIED:20230106T104608Z
UID:413-1660867200-1660953599@rccgmountzion.org
SUMMARY:Power Up
DESCRIPTION:
URL:https://rccgmountzion.org/event/power-up-2/
END:VEVENT
BEGIN:VEVENT
DTSTART;VALUE=DATE:20220817
DTEND;VALUE=DATE:20220818
DTSTAMP:20260425T135755
CREATED:20230106T104636Z
LAST-MODIFIED:20230106T104636Z
UID:415-1660694400-1660780799@rccgmountzion.org
SUMMARY:Communion @ Oasis
DESCRIPTION:
URL:https://rccgmountzion.org/event/communion-oasis-4/
END:VEVENT
BEGIN:VEVENT
DTSTART;VALUE=DATE:20220814
DTEND;VALUE=DATE:20220815
DTSTAMP:20260425T135755
CREATED:20230106T104704Z
LAST-MODIFIED:20230106T104704Z
UID:417-1660435200-1660521599@rccgmountzion.org
SUMMARY:Free from Anger Prov. 14:29
DESCRIPTION:
URL:https://rccgmountzion.org/event/free-from-anger-prov-1429/
END:VEVENT
BEGIN:VEVENT
DTSTART;VALUE=DATE:20220813
DTEND;VALUE=DATE:20220814
DTSTAMP:20260425T135755
CREATED:20230106T104729Z
LAST-MODIFIED:20230106T104729Z
UID:419-1660348800-1660435199@rccgmountzion.org
SUMMARY:Evangelist outreach
DESCRIPTION:
URL:https://rccgmountzion.org/event/evangelist-outreach/
END:VEVENT
BEGIN:VEVENT
DTSTART;VALUE=DATE:20220807
DTEND;VALUE=DATE:20220808
DTSTAMP:20260425T135755
CREATED:20230106T104756Z
LAST-MODIFIED:20230106T104756Z
UID:421-1659830400-1659916799@rccgmountzion.org
SUMMARY:Danger or Anger Eph. 4:26-27
DESCRIPTION:
URL:https://rccgmountzion.org/event/danger-or-anger-eph-426-27/
END:VEVENT
BEGIN:VEVENT
DTSTART;VALUE=DATE:20220803
DTEND;VALUE=DATE:20220804
DTSTAMP:20260425T135755
CREATED:20230106T104827Z
LAST-MODIFIED:20230106T104827Z
UID:423-1659484800-1659571199@rccgmountzion.org
SUMMARY:P&F
DESCRIPTION:
URL:https://rccgmountzion.org/event/pf-12/
END:VEVENT
BEGIN:VEVENT
DTSTART;VALUE=DATE:20220802
DTEND;VALUE=DATE:20220803
DTSTAMP:20260425T135755
CREATED:20230106T104846Z
LAST-MODIFIED:20230106T104846Z
UID:425-1659398400-1659484799@rccgmountzion.org
SUMMARY:P&F
DESCRIPTION:
URL:https://rccgmountzion.org/event/pf-13/
END:VEVENT
BEGIN:VEVENT
DTSTART;VALUE=DATE:20220801
DTEND;VALUE=DATE:20220802
DTSTAMP:20260425T135755
CREATED:20230106T104905Z
LAST-MODIFIED:20230106T104905Z
UID:427-1659312000-1659398399@rccgmountzion.org
SUMMARY:P&F
DESCRIPTION:
URL:https://rccgmountzion.org/event/pf-14/
END:VEVENT
BEGIN:VEVENT
DTSTART;VALUE=DATE:20220731
DTEND;VALUE=DATE:20220801
DTSTAMP:20260425T135755
CREATED:20230106T105019Z
LAST-MODIFIED:20230106T105019Z
UID:429-1659225600-1659311999@rccgmountzion.org
SUMMARY:Friend’s Sunday Thriving Christian life in a world of fakes–Luke 6: 46
DESCRIPTION:
URL:https://rccgmountzion.org/event/friends-sunday-thriving-christian-life-in-a-world-of-fakes-luke-6-46/
END:VEVENT
BEGIN:VEVENT
DTSTART;VALUE=DATE:20220730
DTEND;VALUE=DATE:20220731
DTSTAMP:20260425T135755
CREATED:20230106T105100Z
LAST-MODIFIED:20230106T105100Z
UID:431-1659139200-1659225599@rccgmountzion.org
SUMMARY:SOD Alumni Retreat Wedding – Thomas Family
DESCRIPTION:
URL:https://rccgmountzion.org/event/sod-alumni-retreat-wedding-thomas-family/
END:VEVENT
BEGIN:VEVENT
DTSTART;VALUE=DATE:20220724
DTEND;VALUE=DATE:20220725
DTSTAMP:20260425T135755
CREATED:20230106T105123Z
LAST-MODIFIED:20230106T105123Z
UID:433-1658620800-1658707199@rccgmountzion.org
SUMMARY:Thriving family in world of divorce Phil 4: 13 FTDF
DESCRIPTION:
URL:https://rccgmountzion.org/event/thriving-family-in-world-of-divorce-phil-4-13-ftdf/
END:VEVENT
BEGIN:VEVENT
DTSTART;VALUE=DATE:20220720
DTEND;VALUE=DATE:20220721
DTSTAMP:20260425T135755
CREATED:20230106T105150Z
LAST-MODIFIED:20230106T105150Z
UID:435-1658275200-1658361599@rccgmountzion.org
SUMMARY:Communion @ Oasis
DESCRIPTION:
URL:https://rccgmountzion.org/event/communion-oasis-5/
END:VEVENT
BEGIN:VEVENT
DTSTART;VALUE=DATE:20220717
DTEND;VALUE=DATE:20220718
DTSTAMP:20260425T135755
CREATED:20230106T105216Z
LAST-MODIFIED:20230106T105216Z
UID:437-1658016000-1658102399@rccgmountzion.org
SUMMARY:Thriving in a dying market pl. Eccl. 9: 10
DESCRIPTION:
URL:https://rccgmountzion.org/event/thriving-in-a-dying-market-pl-eccl-9-10/
END:VEVENT
BEGIN:VEVENT
DTSTART;VALUE=DATE:20220716
DTEND;VALUE=DATE:20220717
DTSTAMP:20260425T135755
CREATED:20230106T105236Z
LAST-MODIFIED:20230106T105236Z
UID:439-1657929600-1658015999@rccgmountzion.org
SUMMARY:Back 2 School
DESCRIPTION:
URL:https://rccgmountzion.org/event/back-2-school/
END:VEVENT
BEGIN:VEVENT
DTSTART;VALUE=DATE:20220710
DTEND;VALUE=DATE:20220711
DTSTAMP:20260425T135755
CREATED:20230106T105301Z
LAST-MODIFIED:20230106T105301Z
UID:441-1657411200-1657497599@rccgmountzion.org
SUMMARY:Thriving in a decaying world Daniel 1: 8a
DESCRIPTION:
URL:https://rccgmountzion.org/event/thriving-in-a-decaying-world-daniel-1-8a/
END:VEVENT
BEGIN:VEVENT
DTSTART;VALUE=DATE:20220709
DTEND;VALUE=DATE:20220710
DTSTAMP:20260425T135755
CREATED:20230106T105334Z
LAST-MODIFIED:20230106T105334Z
UID:443-1657324800-1657411199@rccgmountzion.org
SUMMARY:Summer  Cleaning
DESCRIPTION:
URL:https://rccgmountzion.org/event/summer-cleaning/
END:VEVENT
BEGIN:VEVENT
DTSTART;VALUE=DATE:20220704
DTEND;VALUE=DATE:20220705
DTSTAMP:20260425T135755
CREATED:20230106T105400Z
LAST-MODIFIED:20230106T105400Z
UID:445-1656892800-1656979199@rccgmountzion.org
SUMMARY:Independence Day
DESCRIPTION:
URL:https://rccgmountzion.org/event/independence-day/
END:VEVENT
END:VCALENDAR