BEGIN:VCALENDAR
VERSION:2.0
PRODID:-//Mount Zion Parish - ECPv6.15.18//NONSGML v1.0//EN
CALSCALE:GREGORIAN
METHOD:PUBLISH
X-WR-CALNAME:Mount Zion Parish
X-ORIGINAL-URL:https://rccgmountzion.org
X-WR-CALDESC:Events for Mount Zion Parish
REFRESH-INTERVAL;VALUE=DURATION:PT1H
X-Robots-Tag:noindex
X-PUBLISHED-TTL:PT1H
BEGIN:VTIMEZONE
TZID:UTC
BEGIN:STANDARD
TZOFFSETFROM:+0000
TZOFFSETTO:+0000
TZNAME:UTC
DTSTART:20210101T000000
END:STANDARD
END:VTIMEZONE
BEGIN:VEVENT
DTSTART;VALUE=DATE:20221202
DTEND;VALUE=DATE:20221203
DTSTAMP:20260425T113614
CREATED:20230105T142835Z
LAST-MODIFIED:20230105T142835Z
UID:335-1669939200-1670025599@rccgmountzion.org
SUMMARY:P&F
DESCRIPTION:
URL:https://rccgmountzion.org/event/pf-2/
END:VEVENT
BEGIN:VEVENT
DTSTART;VALUE=DATE:20221201
DTEND;VALUE=DATE:20221202
DTSTAMP:20260425T113614
CREATED:20230105T142857Z
LAST-MODIFIED:20230105T142857Z
UID:337-1669852800-1669939199@rccgmountzion.org
SUMMARY:P&F
DESCRIPTION:
URL:https://rccgmountzion.org/event/pf-3/
END:VEVENT
BEGIN:VEVENT
DTSTART;VALUE=DATE:20221127
DTEND;VALUE=DATE:20221128
DTSTAMP:20260425T113614
CREATED:20230105T143214Z
LAST-MODIFIED:20230105T143214Z
UID:339-1669507200-1669593599@rccgmountzion.org
SUMMARY:Family Thanksgiving Love Feast
DESCRIPTION:
URL:https://rccgmountzion.org/event/family-thanksgiving-love-feast/
END:VEVENT
BEGIN:VEVENT
DTSTART;VALUE=DATE:20221124
DTEND;VALUE=DATE:20221125
DTSTAMP:20260425T113614
CREATED:20230105T143338Z
LAST-MODIFIED:20230105T143338Z
UID:341-1669248000-1669334399@rccgmountzion.org
SUMMARY:Thanksgiving Day
DESCRIPTION:
URL:https://rccgmountzion.org/event/thanksgiving-day/
END:VEVENT
BEGIN:VEVENT
DTSTART;VALUE=DATE:20221120
DTEND;VALUE=DATE:20221121
DTSTAMP:20260425T113614
CREATED:20230105T143531Z
LAST-MODIFIED:20230105T143531Z
UID:343-1668902400-1668988799@rccgmountzion.org
SUMMARY:FDTF
DESCRIPTION:
URL:https://rccgmountzion.org/event/fdtf/
END:VEVENT
BEGIN:VEVENT
DTSTART;VALUE=DATE:20221116
DTEND;VALUE=DATE:20221117
DTSTAMP:20260425T113614
CREATED:20230105T143626Z
LAST-MODIFIED:20230105T143732Z
UID:345-1668556800-1668643199@rccgmountzion.org
SUMMARY:Communion @ Oasis
DESCRIPTION:
URL:https://rccgmountzion.org/event/communion-oasis/
END:VEVENT
BEGIN:VEVENT
DTSTART;VALUE=DATE:20221113
DTEND;VALUE=DATE:20221114
DTSTAMP:20260425T113614
CREATED:20230105T143823Z
LAST-MODIFIED:20230105T143823Z
UID:347-1668297600-1668383999@rccgmountzion.org
SUMMARY:Pastors’ Appreciation Veterans celebration Generous heart Matt. 6:24
DESCRIPTION:
URL:https://rccgmountzion.org/event/pastors-appreciation-veterans-celebration-generous-heart-matt-624/
END:VEVENT
BEGIN:VEVENT
DTSTART;VALUE=DATE:20221112
DTEND;VALUE=DATE:20221113
DTSTAMP:20260425T113614
CREATED:20230105T143927Z
LAST-MODIFIED:20230105T143927Z
UID:349-1668211200-1668297599@rccgmountzion.org
SUMMARY:Kingdom Builders’ Appreciation Dinner
DESCRIPTION:
URL:https://rccgmountzion.org/event/kingdom-builders-appreciation-dinner/
END:VEVENT
BEGIN:VEVENT
DTSTART;VALUE=DATE:20221111
DTEND;VALUE=DATE:20221112
DTSTAMP:20260425T113614
CREATED:20230105T144016Z
LAST-MODIFIED:20230105T144016Z
UID:351-1668124800-1668211199@rccgmountzion.org
SUMMARY:Veterans Day
DESCRIPTION:
URL:https://rccgmountzion.org/event/veterans-day/
END:VEVENT
BEGIN:VEVENT
DTSTART;VALUE=DATE:20221109
DTEND;VALUE=DATE:20221110
DTSTAMP:20260425T113614
CREATED:20230105T144047Z
LAST-MODIFIED:20230105T144047Z
UID:353-1667952000-1668038399@rccgmountzion.org
SUMMARY:The Blessing ceremony @ Oasis
DESCRIPTION:
URL:https://rccgmountzion.org/event/the-blessing-ceremony-oasis/
END:VEVENT
BEGIN:VEVENT
DTSTART;VALUE=DATE:20221106
DTEND;VALUE=DATE:20221107
DTSTAMP:20260425T113614
CREATED:20230105T144119Z
LAST-MODIFIED:20230105T144119Z
UID:355-1667692800-1667779199@rccgmountzion.org
SUMMARY:Unthankful Lepers 2 Chr. 24:22
DESCRIPTION:
URL:https://rccgmountzion.org/event/unthankful-lepers-2-chr-2422/
END:VEVENT
BEGIN:VEVENT
DTSTART;VALUE=DATE:20221103
DTEND;VALUE=DATE:20221104
DTSTAMP:20260425T113614
CREATED:20230105T144204Z
LAST-MODIFIED:20230105T144204Z
UID:357-1667433600-1667519999@rccgmountzion.org
SUMMARY:P&F
DESCRIPTION:
URL:https://rccgmountzion.org/event/pf-4/
END:VEVENT
BEGIN:VEVENT
DTSTART;VALUE=DATE:20221102
DTEND;VALUE=DATE:20221103
DTSTAMP:20260425T113614
CREATED:20230105T144248Z
LAST-MODIFIED:20230105T144248Z
UID:359-1667347200-1667433599@rccgmountzion.org
SUMMARY:P&F
DESCRIPTION:
URL:https://rccgmountzion.org/event/pf-5/
END:VEVENT
BEGIN:VEVENT
DTSTART;VALUE=DATE:20221101
DTEND;VALUE=DATE:20221102
DTSTAMP:20260425T113614
CREATED:20230105T144314Z
LAST-MODIFIED:20230105T144314Z
UID:361-1667260800-1667347199@rccgmountzion.org
SUMMARY:P&F
DESCRIPTION:
URL:https://rccgmountzion.org/event/pf-6/
END:VEVENT
BEGIN:VEVENT
DTSTART;VALUE=DATE:20221030
DTEND;VALUE=DATE:20221031
DTSTAMP:20260425T113614
CREATED:20230106T082733Z
LAST-MODIFIED:20230106T082733Z
UID:365-1667088000-1667174399@rccgmountzion.org
SUMMARY:Free Sunday
DESCRIPTION:
URL:https://rccgmountzion.org/event/free-sunday/
END:VEVENT
BEGIN:VEVENT
DTSTART;VALUE=DATE:20221023
DTEND;VALUE=DATE:20221024
DTSTAMP:20260425T113614
CREATED:20230106T082832Z
LAST-MODIFIED:20230106T082946Z
UID:367-1666483200-1666569599@rccgmountzion.org
SUMMARY:Ascribe
DESCRIPTION:
URL:https://rccgmountzion.org/event/ascribe/
END:VEVENT
BEGIN:VEVENT
DTSTART;VALUE=DATE:20221019
DTEND;VALUE=DATE:20221020
DTSTAMP:20260425T113614
CREATED:20230106T083213Z
LAST-MODIFIED:20230106T083213Z
UID:369-1666137600-1666223999@rccgmountzion.org
SUMMARY:Communion @ Oasis
DESCRIPTION:
URL:https://rccgmountzion.org/event/communion-oasis-2/
END:VEVENT
BEGIN:VEVENT
DTSTART;VALUE=DATE:20221016
DTEND;VALUE=DATE:20221017
DTSTAMP:20260425T113614
CREATED:20230106T083320Z
LAST-MODIFIED:20230106T083404Z
UID:371-1665878400-1665964799@rccgmountzion.org
SUMMARY:FTDF
DESCRIPTION:
URL:https://rccgmountzion.org/event/ftdf/
END:VEVENT
BEGIN:VEVENT
DTSTART;VALUE=DATE:20221010
DTEND;VALUE=DATE:20221011
DTSTAMP:20260425T113614
CREATED:20230106T083549Z
LAST-MODIFIED:20230106T083549Z
UID:373-1665360000-1665446399@rccgmountzion.org
SUMMARY:Columbus Day
DESCRIPTION:
URL:https://rccgmountzion.org/event/columbus-day/
END:VEVENT
BEGIN:VEVENT
DTSTART;VALUE=DATE:20221009
DTEND;VALUE=DATE:20221010
DTSTAMP:20260425T113614
CREATED:20230106T083721Z
LAST-MODIFIED:20230106T083721Z
UID:375-1665273600-1665359999@rccgmountzion.org
SUMMARY:Pre-Ascribe
DESCRIPTION:
URL:https://rccgmountzion.org/event/pre-ascribe/
END:VEVENT
BEGIN:VEVENT
DTSTART;VALUE=DATE:20221008
DTEND;VALUE=DATE:20221009
DTSTAMP:20260425T113614
CREATED:20230106T084244Z
LAST-MODIFIED:20230106T084244Z
UID:377-1665187200-1665273599@rccgmountzion.org
SUMMARY:Fall Cleaning
DESCRIPTION:
URL:https://rccgmountzion.org/event/fall-cleaning/
END:VEVENT
BEGIN:VEVENT
DTSTART;VALUE=DATE:20221003
DTEND;VALUE=DATE:20221004
DTSTAMP:20260425T113614
CREATED:20230106T103336Z
LAST-MODIFIED:20230106T103336Z
UID:379-1664755200-1664841599@rccgmountzion.org
SUMMARY:P&F
DESCRIPTION:
URL:https://rccgmountzion.org/event/pf-7/
END:VEVENT
BEGIN:VEVENT
DTSTART;VALUE=DATE:20221002
DTEND;VALUE=DATE:20221003
DTSTAMP:20260425T113614
CREATED:20230106T103423Z
LAST-MODIFIED:20230106T103423Z
UID:381-1664668800-1664755199@rccgmountzion.org
SUMMARY:P&F Vision casting
DESCRIPTION:
URL:https://rccgmountzion.org/event/pf-vision-casting/
END:VEVENT
BEGIN:VEVENT
DTSTART;VALUE=DATE:20221001
DTEND;VALUE=DATE:20221002
DTSTAMP:20260425T113614
CREATED:20230106T103447Z
LAST-MODIFIED:20230106T103447Z
UID:383-1664582400-1664668799@rccgmountzion.org
SUMMARY:P&F
DESCRIPTION:
URL:https://rccgmountzion.org/event/pf-8/
END:VEVENT
BEGIN:VEVENT
DTSTART;VALUE=DATE:20220925
DTEND;VALUE=DATE:20220926
DTSTAMP:20260425T113614
CREATED:20230106T103610Z
LAST-MODIFIED:20230106T103610Z
UID:385-1664064000-1664150399@rccgmountzion.org
SUMMARY:Sunday School Day How to love after hurt Rom: 12:19
DESCRIPTION:
URL:https://rccgmountzion.org/event/sunday-school-day-how-to-love-after-hurt-rom-1219/
END:VEVENT
BEGIN:VEVENT
DTSTART;VALUE=DATE:20220923
DTEND;VALUE=DATE:20220924
DTSTAMP:20260425T113614
CREATED:20230106T103749Z
LAST-MODIFIED:20230106T103749Z
UID:387-1663891200-1663977599@rccgmountzion.org
SUMMARY:DOZ Ladies Night-out
DESCRIPTION:
URL:https://rccgmountzion.org/event/doz-ladies-night-out/
END:VEVENT
BEGIN:VEVENT
DTSTART;VALUE=DATE:20220921
DTEND;VALUE=DATE:20220922
DTSTAMP:20260425T113614
CREATED:20230106T103827Z
LAST-MODIFIED:20230106T103827Z
UID:389-1663718400-1663804799@rccgmountzion.org
SUMMARY:Communion @ Oasis
DESCRIPTION:
URL:https://rccgmountzion.org/event/communion-oasis-3/
END:VEVENT
BEGIN:VEVENT
DTSTART;VALUE=DATE:20220918
DTEND;VALUE=DATE:20220919
DTSTAMP:20260425T113614
CREATED:20230106T103910Z
LAST-MODIFIED:20230106T103916Z
UID:391-1663459200-1663545599@rccgmountzion.org
SUMMARY:FTDF
DESCRIPTION:
URL:https://rccgmountzion.org/event/ftdf-2/
END:VEVENT
BEGIN:VEVENT
DTSTART;VALUE=DATE:20220911
DTEND;VALUE=DATE:20220912
DTSTAMP:20260425T113614
CREATED:20230106T103939Z
LAST-MODIFIED:20230106T103939Z
UID:393-1662854400-1662940799@rccgmountzion.org
SUMMARY:Culture of outrage Prov. 16:32
DESCRIPTION:
URL:https://rccgmountzion.org/event/culture-of-outrage-prov-1632/
END:VEVENT
BEGIN:VEVENT
DTSTART;VALUE=DATE:20220910
DTEND;VALUE=DATE:20220911
DTSTAMP:20260425T113614
CREATED:20230106T104038Z
LAST-MODIFIED:20230106T104038Z
UID:395-1662768000-1662854399@rccgmountzion.org
SUMMARY:Breakfast with Pastor Tony(House Fellowship) Water Baptism
DESCRIPTION:
URL:https://rccgmountzion.org/event/breakfast-with-pastor-tonyhouse-fellowship-water-baptism/
END:VEVENT
END:VCALENDAR