BEGIN:VCALENDAR
VERSION:2.0
PRODID:-//Mount Zion Parish - ECPv6.15.18//NONSGML v1.0//EN
CALSCALE:GREGORIAN
METHOD:PUBLISH
X-WR-CALNAME:Mount Zion Parish
X-ORIGINAL-URL:https://rccgmountzion.org
X-WR-CALDESC:Events for Mount Zion Parish
REFRESH-INTERVAL;VALUE=DURATION:PT1H
X-Robots-Tag:noindex
X-PUBLISHED-TTL:PT1H
BEGIN:VTIMEZONE
TZID:UTC
BEGIN:STANDARD
TZOFFSETFROM:+0000
TZOFFSETTO:+0000
TZNAME:UTC
DTSTART:20210101T000000
END:STANDARD
END:VTIMEZONE
BEGIN:VEVENT
DTSTART;VALUE=DATE:20230204
DTEND;VALUE=DATE:20230205
DTSTAMP:20260425T155156
CREATED:20230119T195539Z
LAST-MODIFIED:20230119T195539Z
UID:678-1675468800-1675555199@rccgmountzion.org
SUMMARY:KICON mentor training & Retreat
DESCRIPTION:
URL:https://rccgmountzion.org/event/kicon-mentor-training-retreat/
END:VEVENT
BEGIN:VEVENT
DTSTART;VALUE=DATE:20230203
DTEND;VALUE=DATE:20230204
DTSTAMP:20260425T155156
CREATED:20230119T195524Z
LAST-MODIFIED:20230119T195524Z
UID:676-1675382400-1675468799@rccgmountzion.org
SUMMARY:Night Vigil KICON mentor training & retreat
DESCRIPTION:
URL:https://rccgmountzion.org/event/night-vigil-kicon-mentor-training-retreat/
END:VEVENT
BEGIN:VEVENT
DTSTART;VALUE=DATE:20230201
DTEND;VALUE=DATE:20230202
DTSTAMP:20260425T155156
CREATED:20230119T195511Z
LAST-MODIFIED:20230119T195511Z
UID:674-1675209600-1675295999@rccgmountzion.org
SUMMARY:Ideas Rule the world @ Oasis service
DESCRIPTION:
URL:https://rccgmountzion.org/event/ideas-rule-the-world-oasis-service/
END:VEVENT
BEGIN:VEVENT
DTSTART;VALUE=DATE:20230127
DTEND;VALUE=DATE:20230128
DTSTAMP:20260425T155156
CREATED:20230119T195402Z
LAST-MODIFIED:20230119T195402Z
UID:672-1674777600-1674863999@rccgmountzion.org
SUMMARY:DOZ Night Vigil
DESCRIPTION:
URL:https://rccgmountzion.org/event/doz-night-vigil-2/
END:VEVENT
BEGIN:VEVENT
DTSTART;VALUE=DATE:20230125
DTEND;VALUE=DATE:20230126
DTSTAMP:20260425T155156
CREATED:20230119T195350Z
LAST-MODIFIED:20230119T195350Z
UID:670-1674604800-1674691199@rccgmountzion.org
SUMMARY:Oasis service
DESCRIPTION:
URL:https://rccgmountzion.org/event/oasis-service-8/
END:VEVENT
BEGIN:VEVENT
DTSTART;VALUE=DATE:20230121
DTEND;VALUE=DATE:20230122
DTSTAMP:20260425T155156
CREATED:20230119T195334Z
LAST-MODIFIED:20230119T195334Z
UID:668-1674259200-1674345599@rccgmountzion.org
SUMMARY:Kingdom builders’ Leadership Training
DESCRIPTION:
URL:https://rccgmountzion.org/event/kingdom-builders-leadership-training/
END:VEVENT
BEGIN:VEVENT
DTSTART;VALUE=DATE:20230118
DTEND;VALUE=DATE:20230119
DTSTAMP:20260425T155156
CREATED:20230119T195321Z
LAST-MODIFIED:20230119T195321Z
UID:666-1674000000-1674086399@rccgmountzion.org
SUMMARY:Communion service
DESCRIPTION:
URL:https://rccgmountzion.org/event/communion-service/
END:VEVENT
BEGIN:VEVENT
DTSTART;VALUE=DATE:20230116
DTEND;VALUE=DATE:20230117
DTSTAMP:20260425T155156
CREATED:20230119T195307Z
LAST-MODIFIED:20230119T195307Z
UID:664-1673827200-1673913599@rccgmountzion.org
SUMMARY:M L King Day
DESCRIPTION:
URL:https://rccgmountzion.org/event/m-l-king-day-2/
END:VEVENT
BEGIN:VEVENT
DTSTART;VALUE=DATE:20230115
DTEND;VALUE=DATE:20230116
DTSTAMP:20260425T155156
CREATED:20230119T195253Z
LAST-MODIFIED:20230119T195253Z
UID:662-1673740800-1673827199@rccgmountzion.org
SUMMARY:From this Day Forward (FTDF)
DESCRIPTION:
URL:https://rccgmountzion.org/event/from-this-day-forward-ftdf/
END:VEVENT
BEGIN:VEVENT
DTSTART;VALUE=DATE:20230111
DTEND;VALUE=DATE:20230112
DTSTAMP:20260425T155156
CREATED:20230119T195237Z
LAST-MODIFIED:20230119T195237Z
UID:660-1673395200-1673481599@rccgmountzion.org
SUMMARY:Oasis service RCCG Worldwide 50days Fasting Begins
DESCRIPTION:
URL:https://rccgmountzion.org/event/oasis-service-rccg-worldwide-50days-fasting-begins/
END:VEVENT
BEGIN:VEVENT
DTSTART;VALUE=DATE:20230106
DTEND;VALUE=DATE:20230107
DTSTAMP:20260425T155156
CREATED:20230119T195054Z
LAST-MODIFIED:20230119T195054Z
UID:657-1672963200-1673049599@rccgmountzion.org
SUMMARY:Night Vigil
DESCRIPTION:
URL:https://rccgmountzion.org/event/night-vigil/
END:VEVENT
BEGIN:VEVENT
DTSTART;VALUE=DATE:20230104
DTEND;VALUE=DATE:20230105
DTSTAMP:20260425T155156
CREATED:20230119T195040Z
LAST-MODIFIED:20230119T195040Z
UID:655-1672790400-1672876799@rccgmountzion.org
SUMMARY:Oasis service
DESCRIPTION:
URL:https://rccgmountzion.org/event/oasis-service-7/
END:VEVENT
BEGIN:VEVENT
DTSTART;VALUE=DATE:20230102
DTEND;VALUE=DATE:20230103
DTSTAMP:20260425T155156
CREATED:20230119T195007Z
LAST-MODIFIED:20230119T195146Z
UID:653-1672617600-1672703999@rccgmountzion.org
SUMMARY:New Year’s Day Holiday
DESCRIPTION:
URL:https://rccgmountzion.org/event/new-years-day-holiday/
ATTACH;FMTTYPE=image/jpeg:https://rccgmountzion.org/wp-content/uploads/2023/01/happy-new-year-decorate-led-cotton-ball-wooden-background-227265567.jpg
END:VEVENT
BEGIN:VEVENT
DTSTART;VALUE=DATE:20221231
DTEND;VALUE=DATE:20230101
DTSTAMP:20260425T155156
CREATED:20230105T053506Z
LAST-MODIFIED:20230105T053506Z
UID:313-1672444800-1672531199@rccgmountzion.org
SUMMARY:Crossover Service
DESCRIPTION:
URL:https://rccgmountzion.org/event/crossover-service/
END:VEVENT
BEGIN:VEVENT
DTSTART;VALUE=DATE:20221225
DTEND;VALUE=DATE:20221226
DTSTAMP:20260425T155156
CREATED:20230105T083736Z
LAST-MODIFIED:20230105T083736Z
UID:316-1671926400-1672012799@rccgmountzion.org
SUMMARY:Christmas
DESCRIPTION:
URL:https://rccgmountzion.org/event/christmas/
END:VEVENT
BEGIN:VEVENT
DTSTART;VALUE=DATE:20221221
DTEND;VALUE=DATE:20221222
DTSTAMP:20260425T155156
CREATED:20230105T141848Z
LAST-MODIFIED:20230105T142113Z
UID:318-1671580800-1671667199@rccgmountzion.org
SUMMARY:Communion @ Oasis  Christmas in Lake-City  “Carol Night”
DESCRIPTION:
URL:https://rccgmountzion.org/event/communion-oasis-christmas-in-lake-city-carol-night/
END:VEVENT
BEGIN:VEVENT
DTSTART;VALUE=DATE:20221218
DTEND;VALUE=DATE:20221219
DTSTAMP:20260425T155156
CREATED:20230105T142202Z
LAST-MODIFIED:20230105T142202Z
UID:320-1671321600-1671407999@rccgmountzion.org
SUMMARY:FTDF Friends Sunday
DESCRIPTION:
URL:https://rccgmountzion.org/event/ftdf-friends-sunday/
END:VEVENT
BEGIN:VEVENT
DTSTART;VALUE=DATE:20221217
DTEND;VALUE=DATE:20221218
DTSTAMP:20260425T155156
CREATED:20230105T142307Z
LAST-MODIFIED:20230105T142330Z
UID:322-1671235200-1671321599@rccgmountzion.org
SUMMARY:Christmas in Lake-City “Family fun Night”
DESCRIPTION:
URL:https://rccgmountzion.org/event/christmas-in-lake-city-family-fun-night/
END:VEVENT
BEGIN:VEVENT
DTSTART;VALUE=DATE:20221211
DTEND;VALUE=DATE:20221212
DTSTAMP:20260425T155156
CREATED:20230105T142418Z
LAST-MODIFIED:20230105T142446Z
UID:324-1670716800-1670803199@rccgmountzion.org
SUMMARY:Reaching the world 1 Cor. 3:6
DESCRIPTION:
URL:https://rccgmountzion.org/event/reaching-the-world-1-cor-36/
END:VEVENT
BEGIN:VEVENT
DTSTART;VALUE=DATE:20221210
DTEND;VALUE=DATE:20221211
DTSTAMP:20260425T155156
CREATED:20230105T142533Z
LAST-MODIFIED:20230105T142533Z
UID:326-1670630400-1670716799@rccgmountzion.org
SUMMARY:MOVAD
DESCRIPTION:
URL:https://rccgmountzion.org/event/movad/
END:VEVENT
BEGIN:VEVENT
DTSTART;VALUE=DATE:20221209
DTEND;VALUE=DATE:20221210
DTSTAMP:20260425T155156
CREATED:20230105T142600Z
LAST-MODIFIED:20230105T142600Z
UID:328-1670544000-1670630399@rccgmountzion.org
SUMMARY:MOVAD
DESCRIPTION:
URL:https://rccgmountzion.org/event/movad-2/
END:VEVENT
BEGIN:VEVENT
DTSTART;VALUE=DATE:20221204
DTEND;VALUE=DATE:20221205
DTSTAMP:20260425T155156
CREATED:20230105T142655Z
LAST-MODIFIED:20230105T142655Z
UID:330-1670112000-1670198399@rccgmountzion.org
SUMMARY:Small World\, Big God Eph. 2:10
DESCRIPTION:
URL:https://rccgmountzion.org/event/small-world-big-god-eph-210/
END:VEVENT
BEGIN:VEVENT
DTSTART;VALUE=DATE:20221203
DTEND;VALUE=DATE:20221204
DTSTAMP:20260425T155156
CREATED:20230105T142814Z
LAST-MODIFIED:20230105T142814Z
UID:333-1670025600-1670111999@rccgmountzion.org
SUMMARY:P&F
DESCRIPTION:
URL:https://rccgmountzion.org/event/pf/
END:VEVENT
BEGIN:VEVENT
DTSTART;VALUE=DATE:20221202
DTEND;VALUE=DATE:20221203
DTSTAMP:20260425T155156
CREATED:20230105T142835Z
LAST-MODIFIED:20230105T142835Z
UID:335-1669939200-1670025599@rccgmountzion.org
SUMMARY:P&F
DESCRIPTION:
URL:https://rccgmountzion.org/event/pf-2/
END:VEVENT
BEGIN:VEVENT
DTSTART;VALUE=DATE:20221201
DTEND;VALUE=DATE:20221202
DTSTAMP:20260425T155156
CREATED:20230105T142857Z
LAST-MODIFIED:20230105T142857Z
UID:337-1669852800-1669939199@rccgmountzion.org
SUMMARY:P&F
DESCRIPTION:
URL:https://rccgmountzion.org/event/pf-3/
END:VEVENT
BEGIN:VEVENT
DTSTART;VALUE=DATE:20221127
DTEND;VALUE=DATE:20221128
DTSTAMP:20260425T155156
CREATED:20230105T143214Z
LAST-MODIFIED:20230105T143214Z
UID:339-1669507200-1669593599@rccgmountzion.org
SUMMARY:Family Thanksgiving Love Feast
DESCRIPTION:
URL:https://rccgmountzion.org/event/family-thanksgiving-love-feast/
END:VEVENT
BEGIN:VEVENT
DTSTART;VALUE=DATE:20221124
DTEND;VALUE=DATE:20221125
DTSTAMP:20260425T155156
CREATED:20230105T143338Z
LAST-MODIFIED:20230105T143338Z
UID:341-1669248000-1669334399@rccgmountzion.org
SUMMARY:Thanksgiving Day
DESCRIPTION:
URL:https://rccgmountzion.org/event/thanksgiving-day/
END:VEVENT
BEGIN:VEVENT
DTSTART;VALUE=DATE:20221120
DTEND;VALUE=DATE:20221121
DTSTAMP:20260425T155156
CREATED:20230105T143531Z
LAST-MODIFIED:20230105T143531Z
UID:343-1668902400-1668988799@rccgmountzion.org
SUMMARY:FDTF
DESCRIPTION:
URL:https://rccgmountzion.org/event/fdtf/
END:VEVENT
BEGIN:VEVENT
DTSTART;VALUE=DATE:20221116
DTEND;VALUE=DATE:20221117
DTSTAMP:20260425T155156
CREATED:20230105T143626Z
LAST-MODIFIED:20230105T143732Z
UID:345-1668556800-1668643199@rccgmountzion.org
SUMMARY:Communion @ Oasis
DESCRIPTION:
URL:https://rccgmountzion.org/event/communion-oasis/
END:VEVENT
BEGIN:VEVENT
DTSTART;VALUE=DATE:20221113
DTEND;VALUE=DATE:20221114
DTSTAMP:20260425T155156
CREATED:20230105T143823Z
LAST-MODIFIED:20230105T143823Z
UID:347-1668297600-1668383999@rccgmountzion.org
SUMMARY:Pastors’ Appreciation Veterans celebration Generous heart Matt. 6:24
DESCRIPTION:
URL:https://rccgmountzion.org/event/pastors-appreciation-veterans-celebration-generous-heart-matt-624/
END:VEVENT
END:VCALENDAR