BEGIN:VCALENDAR
VERSION:2.0
PRODID:-//Mount Zion Parish - ECPv6.15.18//NONSGML v1.0//EN
CALSCALE:GREGORIAN
METHOD:PUBLISH
X-WR-CALNAME:Mount Zion Parish
X-ORIGINAL-URL:https://rccgmountzion.org
X-WR-CALDESC:Events for Mount Zion Parish
REFRESH-INTERVAL;VALUE=DURATION:PT1H
X-Robots-Tag:noindex
X-PUBLISHED-TTL:PT1H
BEGIN:VTIMEZONE
TZID:UTC
BEGIN:STANDARD
TZOFFSETFROM:+0000
TZOFFSETTO:+0000
TZNAME:UTC
DTSTART:20230101T000000
END:STANDARD
END:VTIMEZONE
BEGIN:VEVENT
DTSTART;VALUE=DATE:20241220
DTEND;VALUE=DATE:20241221
DTSTAMP:20260423T230711
CREATED:20240122T134520Z
LAST-MODIFIED:20240122T134520Z
UID:1385-1734652800-1734739199@rccgmountzion.org
SUMMARY:Christmas in Lake-city
DESCRIPTION:
URL:https://rccgmountzion.org/event/christmas-in-lake-city-2/
END:VEVENT
BEGIN:VEVENT
DTSTART;VALUE=DATE:20241215
DTEND;VALUE=DATE:20241216
DTSTAMP:20260423T230711
CREATED:20240122T134455Z
LAST-MODIFIED:20240122T134455Z
UID:1383-1734220800-1734307199@rccgmountzion.org
SUMMARY:FTDF
DESCRIPTION:
URL:https://rccgmountzion.org/event/ftdf-14/
END:VEVENT
BEGIN:VEVENT
DTSTART;VALUE=DATE:20241208
DTEND;VALUE=DATE:20241209
DTSTAMP:20260423T230711
CREATED:20240122T134432Z
LAST-MODIFIED:20240122T134432Z
UID:1381-1733616000-1733702399@rccgmountzion.org
SUMMARY:KEEP HOPE ALIVE John 11:33 NIV  Evangelism
DESCRIPTION:
URL:https://rccgmountzion.org/event/keep-hope-alive-john-1133-niv-evangelism/
END:VEVENT
BEGIN:VEVENT
DTSTART;VALUE=DATE:20241204
DTEND;VALUE=DATE:20241205
DTSTAMP:20260423T230711
CREATED:20240122T134406Z
LAST-MODIFIED:20240122T134406Z
UID:1379-1733270400-1733356799@rccgmountzion.org
SUMMARY:Communion @ Oasis
DESCRIPTION:
URL:https://rccgmountzion.org/event/communion-oasis-22/
END:VEVENT
BEGIN:VEVENT
DTSTART;VALUE=DATE:20241201
DTEND;VALUE=DATE:20241202
DTSTAMP:20260423T230711
CREATED:20240122T134344Z
LAST-MODIFIED:20240122T134344Z
UID:1377-1733011200-1733097599@rccgmountzion.org
SUMMARY:WRECKED SHIP? Acts 27:20 NLT
DESCRIPTION:
URL:https://rccgmountzion.org/event/wrecked-ship-acts-2720-nlt/
END:VEVENT
BEGIN:VEVENT
DTSTART;VALUE=DATE:20241128
DTEND;VALUE=DATE:20241129
DTSTAMP:20260423T230711
CREATED:20240122T134304Z
LAST-MODIFIED:20240122T134304Z
UID:1375-1732752000-1732838399@rccgmountzion.org
SUMMARY:Thanksgiving Day
DESCRIPTION:
URL:https://rccgmountzion.org/event/thanksgiving-day-3/
END:VEVENT
BEGIN:VEVENT
DTSTART;VALUE=DATE:20241124
DTEND;VALUE=DATE:20241125
DTSTAMP:20260423T230711
CREATED:20240122T134231Z
LAST-MODIFIED:20240122T134231Z
UID:1373-1732406400-1732492799@rccgmountzion.org
SUMMARY:FAMILY CONNECTION LOVE FEAST
DESCRIPTION:
URL:https://rccgmountzion.org/event/family-connection-love-feast/
END:VEVENT
BEGIN:VEVENT
DTSTART;VALUE=DATE:20241117
DTEND;VALUE=DATE:20241118
DTSTAMP:20260423T230711
CREATED:20240122T134158Z
LAST-MODIFIED:20240122T134158Z
UID:1371-1731801600-1731887999@rccgmountzion.org
SUMMARY:FTDF
DESCRIPTION:
URL:https://rccgmountzion.org/event/ftdf-13/
END:VEVENT
BEGIN:VEVENT
DTSTART;VALUE=DATE:20241115
DTEND;VALUE=DATE:20241117
DTSTAMP:20260423T230711
CREATED:20240122T134125Z
LAST-MODIFIED:20240122T134125Z
UID:1369-1731628800-1731801599@rccgmountzion.org
SUMMARY:MOVAD
DESCRIPTION:
URL:https://rccgmountzion.org/event/movad-3/
END:VEVENT
BEGIN:VEVENT
DTSTART;VALUE=DATE:20241111
DTEND;VALUE=DATE:20241112
DTSTAMP:20260423T230711
CREATED:20240122T134049Z
LAST-MODIFIED:20240122T134049Z
UID:1367-1731283200-1731369599@rccgmountzion.org
SUMMARY:Veterans Day
DESCRIPTION:
URL:https://rccgmountzion.org/event/veterans-day-3/
END:VEVENT
BEGIN:VEVENT
DTSTART;VALUE=DATE:20241110
DTEND;VALUE=DATE:20241111
DTSTAMP:20260423T230711
CREATED:20240122T134023Z
LAST-MODIFIED:20240122T134023Z
UID:1365-1731196800-1731283199@rccgmountzion.org
SUMMARY:MATTER OF THE HEART Matthew 6:21 CEV Pastors Appreciation
DESCRIPTION:
URL:https://rccgmountzion.org/event/matter-of-the-heart-matthew-621-cev-pastors-appreciation/
END:VEVENT
BEGIN:VEVENT
DTSTART;VALUE=DATE:20241106
DTEND;VALUE=DATE:20241107
DTSTAMP:20260423T230711
CREATED:20240122T133951Z
LAST-MODIFIED:20240122T133951Z
UID:1362-1730851200-1730937599@rccgmountzion.org
SUMMARY:Communion @ Oasis
DESCRIPTION:
URL:https://rccgmountzion.org/event/communion-oasis-21/
END:VEVENT
BEGIN:VEVENT
DTSTART;VALUE=DATE:20241103
DTEND;VALUE=DATE:20241104
DTSTAMP:20260423T230711
CREATED:20240122T133926Z
LAST-MODIFIED:20240122T133926Z
UID:1360-1730592000-1730678399@rccgmountzion.org
SUMMARY:ATTITUDE OF MATERIALISM Proverbs 27:20 NIV
DESCRIPTION:
URL:https://rccgmountzion.org/event/attitude-of-materialism-proverbs-2720-niv/
END:VEVENT
BEGIN:VEVENT
DTSTART;VALUE=DATE:20241027
DTEND;VALUE=DATE:20241028
DTSTAMP:20260423T230711
CREATED:20240122T133838Z
LAST-MODIFIED:20240122T133838Z
UID:1358-1729987200-1730073599@rccgmountzion.org
SUMMARY:WHAT TO DO\, THE END IS NEAR Matthew 24:36 NIV  Evangelism
DESCRIPTION:
URL:https://rccgmountzion.org/event/what-to-do-the-end-is-near-matthew-2436-niv-evangelism/
END:VEVENT
BEGIN:VEVENT
DTSTART;VALUE=DATE:20241020
DTEND;VALUE=DATE:20241021
DTSTAMP:20260423T230711
CREATED:20240122T133807Z
LAST-MODIFIED:20240122T133807Z
UID:1356-1729382400-1729468799@rccgmountzion.org
SUMMARY:ASCRIBE
DESCRIPTION:
URL:https://rccgmountzion.org/event/ascribe-2/
END:VEVENT
BEGIN:VEVENT
DTSTART;VALUE=DATE:20241019
DTEND;VALUE=DATE:20241020
DTSTAMP:20260423T230711
CREATED:20240122T133740Z
LAST-MODIFIED:20240122T133740Z
UID:1354-1729296000-1729382399@rccgmountzion.org
SUMMARY:Community event
DESCRIPTION:
URL:https://rccgmountzion.org/event/community-event-3/
END:VEVENT
BEGIN:VEVENT
DTSTART;VALUE=DATE:20241013
DTEND;VALUE=DATE:20241014
DTSTAMP:20260423T230711
CREATED:20240122T133719Z
LAST-MODIFIED:20240122T133719Z
UID:1352-1728777600-1728863999@rccgmountzion.org
SUMMARY:PREASCRIBE PRAISE SUNDAY
DESCRIPTION:
URL:https://rccgmountzion.org/event/preascribe-praise-sunday/
END:VEVENT
BEGIN:VEVENT
DTSTART;VALUE=DATE:20241012
DTEND;VALUE=DATE:20241013
DTSTAMP:20260423T230711
CREATED:20240122T133655Z
LAST-MODIFIED:20240122T133655Z
UID:1350-1728691200-1728777599@rccgmountzion.org
SUMMARY:Fall cleaning
DESCRIPTION:
URL:https://rccgmountzion.org/event/fall-cleaning-3/
END:VEVENT
BEGIN:VEVENT
DTSTART;VALUE=DATE:20241006
DTEND;VALUE=DATE:20241007
DTSTAMP:20260423T230711
CREATED:20240122T133623Z
LAST-MODIFIED:20240122T133623Z
UID:1348-1728172800-1728259199@rccgmountzion.org
SUMMARY:YOUR FIRST LOVE Revelation 2:4 ERV
DESCRIPTION:
URL:https://rccgmountzion.org/event/your-first-love-revelation-24-erv/
END:VEVENT
BEGIN:VEVENT
DTSTART;VALUE=DATE:20241002
DTEND;VALUE=DATE:20241003
DTSTAMP:20260423T230711
CREATED:20240122T133551Z
LAST-MODIFIED:20240122T133551Z
UID:1346-1727827200-1727913599@rccgmountzion.org
SUMMARY:Communion @ Oasis
DESCRIPTION:
URL:https://rccgmountzion.org/event/communion-oasis-20/
END:VEVENT
BEGIN:VEVENT
DTSTART;VALUE=DATE:20240929
DTEND;VALUE=DATE:20240930
DTSTAMP:20260423T230711
CREATED:20240122T133328Z
LAST-MODIFIED:20240122T133525Z
UID:1344-1727568000-1727654399@rccgmountzion.org
SUMMARY:COMPLETE IN HIM Colossians 2:10 ERV; Colossians 3:8 ESV
DESCRIPTION:
URL:https://rccgmountzion.org/event/complete-in-him-colossians-210-erv-colossians-38-esv/
END:VEVENT
BEGIN:VEVENT
DTSTART;VALUE=DATE:20240922
DTEND;VALUE=DATE:20240923
DTSTAMP:20260423T230711
CREATED:20240122T133300Z
LAST-MODIFIED:20240122T133300Z
UID:1342-1726963200-1727049599@rccgmountzion.org
SUMMARY:CHRIST’S AMBASSADORS 2 Corinthians 5:20 NIV
DESCRIPTION:
URL:https://rccgmountzion.org/event/christs-ambassadors-2-corinthians-520-niv/
END:VEVENT
BEGIN:VEVENT
DTSTART;VALUE=DATE:20240915
DTEND;VALUE=DATE:20240916
DTSTAMP:20260423T230711
CREATED:20240122T133226Z
LAST-MODIFIED:20240122T133226Z
UID:1340-1726358400-1726444799@rccgmountzion.org
SUMMARY:FTDF
DESCRIPTION:
URL:https://rccgmountzion.org/event/ftdf-12/
END:VEVENT
BEGIN:VEVENT
DTSTART;VALUE=DATE:20240913
DTEND;VALUE=DATE:20240914
DTSTAMP:20260423T230711
CREATED:20240122T133152Z
LAST-MODIFIED:20240122T133152Z
UID:1338-1726185600-1726271999@rccgmountzion.org
SUMMARY:DOZ Prayer Conference
DESCRIPTION:
URL:https://rccgmountzion.org/event/doz-prayer-conference/
END:VEVENT
BEGIN:VEVENT
DTSTART;VALUE=DATE:20240908
DTEND;VALUE=DATE:20240909
DTSTAMP:20260423T230711
CREATED:20240122T133125Z
LAST-MODIFIED:20240122T133125Z
UID:1336-1725753600-1725839999@rccgmountzion.org
SUMMARY:FIRE CONFERENCE HIS FULLNESS Colossians 2:7a NIV
DESCRIPTION:
URL:https://rccgmountzion.org/event/fire-conference-his-fullness-colossians-27a-niv/
END:VEVENT
BEGIN:VEVENT
DTSTART;VALUE=DATE:20240904
DTEND;VALUE=DATE:20240905
DTSTAMP:20260423T230711
CREATED:20240122T133053Z
LAST-MODIFIED:20240122T133053Z
UID:1334-1725408000-1725494399@rccgmountzion.org
SUMMARY:Communion @ Oasis
DESCRIPTION:
URL:https://rccgmountzion.org/event/communion-oasis-19/
END:VEVENT
BEGIN:VEVENT
DTSTART;VALUE=DATE:20240902
DTEND;VALUE=DATE:20240903
DTSTAMP:20260423T230711
CREATED:20240122T133019Z
LAST-MODIFIED:20240122T133019Z
UID:1332-1725235200-1725321599@rccgmountzion.org
SUMMARY:Labor Day
DESCRIPTION:
URL:https://rccgmountzion.org/event/labor-day-3/
END:VEVENT
BEGIN:VEVENT
DTSTART;VALUE=DATE:20240901
DTEND;VALUE=DATE:20240902
DTSTAMP:20260423T230711
CREATED:20240122T132939Z
LAST-MODIFIED:20240122T132939Z
UID:1330-1725148800-1725235199@rccgmountzion.org
SUMMARY:HOPE Colossians 1:27 TPT
DESCRIPTION:
URL:https://rccgmountzion.org/event/hope-colossians-127-tpt/
END:VEVENT
BEGIN:VEVENT
DTSTART;VALUE=DATE:20240825
DTEND;VALUE=DATE:20240826
DTSTAMP:20260423T230711
CREATED:20240122T132849Z
LAST-MODIFIED:20240122T132849Z
UID:1328-1724544000-1724630399@rccgmountzion.org
SUMMARY:GREATNESS Psalm 71:21 ESV  Evangelism
DESCRIPTION:
URL:https://rccgmountzion.org/event/greatness-psalm-7121-esv-evangelism/
END:VEVENT
BEGIN:VEVENT
DTSTART;VALUE=DATE:20240818
DTEND;VALUE=DATE:20240819
DTSTAMP:20260423T230711
CREATED:20240122T132823Z
LAST-MODIFIED:20240122T132823Z
UID:1326-1723939200-1724025599@rccgmountzion.org
SUMMARY:FTDF
DESCRIPTION:
URL:https://rccgmountzion.org/event/ftdf-11/
END:VEVENT
END:VCALENDAR