BEGIN:VCALENDAR
VERSION:2.0
PRODID:-//Mount Zion Parish - ECPv6.15.18//NONSGML v1.0//EN
CALSCALE:GREGORIAN
METHOD:PUBLISH
X-WR-CALNAME:Mount Zion Parish
X-ORIGINAL-URL:https://rccgmountzion.org
X-WR-CALDESC:Events for Mount Zion Parish
REFRESH-INTERVAL;VALUE=DURATION:PT1H
X-Robots-Tag:noindex
X-PUBLISHED-TTL:PT1H
BEGIN:VTIMEZONE
TZID:UTC
BEGIN:STANDARD
TZOFFSETFROM:+0000
TZOFFSETTO:+0000
TZNAME:UTC
DTSTART:20220101T000000
END:STANDARD
END:VTIMEZONE
BEGIN:VEVENT
DTSTART;VALUE=DATE:20230403
DTEND;VALUE=DATE:20230404
DTSTAMP:20260425T133315
CREATED:20230119T200241Z
LAST-MODIFIED:20230119T200241Z
UID:722-1680480000-1680566399@rccgmountzion.org
SUMMARY:Fasting and Prayers
DESCRIPTION:
URL:https://rccgmountzion.org/event/fasting-and-prayers-3/
END:VEVENT
BEGIN:VEVENT
DTSTART;VALUE=DATE:20230402
DTEND;VALUE=DATE:20230403
DTSTAMP:20260425T133316
CREATED:20230119T200221Z
LAST-MODIFIED:20230119T200221Z
UID:720-1680393600-1680479999@rccgmountzion.org
SUMMARY:Fasting and Prayers
DESCRIPTION:
URL:https://rccgmountzion.org/event/fasting-and-prayers-2/
END:VEVENT
BEGIN:VEVENT
DTSTART;VALUE=DATE:20230401
DTEND;VALUE=DATE:20230402
DTSTAMP:20260425T133316
CREATED:20230119T200204Z
LAST-MODIFIED:20230119T200204Z
UID:718-1680307200-1680393599@rccgmountzion.org
SUMMARY:Fasting and Prayers
DESCRIPTION:
URL:https://rccgmountzion.org/event/fasting-and-prayers/
END:VEVENT
BEGIN:VEVENT
DTSTART;VALUE=DATE:20230329
DTEND;VALUE=DATE:20230330
DTSTAMP:20260425T133316
CREATED:20230119T200148Z
LAST-MODIFIED:20230119T200148Z
UID:716-1680048000-1680134399@rccgmountzion.org
SUMMARY:Oasis service
DESCRIPTION:
URL:https://rccgmountzion.org/event/oasis-service-11/
END:VEVENT
BEGIN:VEVENT
DTSTART;VALUE=DATE:20230322
DTEND;VALUE=DATE:20230323
DTSTAMP:20260425T133316
CREATED:20230119T200135Z
LAST-MODIFIED:20230119T200135Z
UID:714-1679443200-1679529599@rccgmountzion.org
SUMMARY:Oasis service
DESCRIPTION:
URL:https://rccgmountzion.org/event/oasis-service-10/
END:VEVENT
BEGIN:VEVENT
DTSTART;VALUE=DATE:20230319
DTEND;VALUE=DATE:20230320
DTSTAMP:20260425T133316
CREATED:20230119T200125Z
LAST-MODIFIED:20230119T200125Z
UID:712-1679184000-1679270399@rccgmountzion.org
SUMMARY:From This Day Forward
DESCRIPTION:
URL:https://rccgmountzion.org/event/from-this-day-forward-2/
END:VEVENT
BEGIN:VEVENT
DTSTART;VALUE=DATE:20230318
DTEND;VALUE=DATE:20230319
DTSTAMP:20260425T133316
CREATED:20230119T200111Z
LAST-MODIFIED:20230119T200111Z
UID:710-1679097600-1679183999@rccgmountzion.org
SUMMARY:RCCGNA Women In Ministry Conference
DESCRIPTION:
URL:https://rccgmountzion.org/event/rccgna-women-in-ministry-conference-3/
END:VEVENT
BEGIN:VEVENT
DTSTART;VALUE=DATE:20230317
DTEND;VALUE=DATE:20230318
DTSTAMP:20260425T133316
CREATED:20230119T200100Z
LAST-MODIFIED:20230119T200100Z
UID:708-1679011200-1679097599@rccgmountzion.org
SUMMARY:RCCGNA Women In Ministry Conference
DESCRIPTION:
URL:https://rccgmountzion.org/event/rccgna-women-in-ministry-conference-2/
END:VEVENT
BEGIN:VEVENT
DTSTART;VALUE=DATE:20230316
DTEND;VALUE=DATE:20230317
DTSTAMP:20260425T133316
CREATED:20230119T200040Z
LAST-MODIFIED:20230119T200040Z
UID:706-1678924800-1679011199@rccgmountzion.org
SUMMARY:RCCGNA Women In Ministry Conference
DESCRIPTION:
URL:https://rccgmountzion.org/event/rccgna-women-in-ministry-conference/
END:VEVENT
BEGIN:VEVENT
DTSTART;VALUE=DATE:20230315
DTEND;VALUE=DATE:20230316
DTSTAMP:20260425T133316
CREATED:20230119T200027Z
LAST-MODIFIED:20230119T200027Z
UID:704-1678838400-1678924799@rccgmountzion.org
SUMMARY:Communion @ Oasis service
DESCRIPTION:
URL:https://rccgmountzion.org/event/communion-oasis-service/
END:VEVENT
BEGIN:VEVENT
DTSTART;VALUE=DATE:20230311
DTEND;VALUE=DATE:20230312
DTSTAMP:20260425T133316
CREATED:20230119T200016Z
LAST-MODIFIED:20230119T200016Z
UID:702-1678492800-1678579199@rccgmountzion.org
SUMMARY:SOD Teachers Training
DESCRIPTION:
URL:https://rccgmountzion.org/event/sod-teachers-training/
END:VEVENT
BEGIN:VEVENT
DTSTART;VALUE=DATE:20230308
DTEND;VALUE=DATE:20230309
DTSTAMP:20260425T133316
CREATED:20230119T200003Z
LAST-MODIFIED:20230119T200003Z
UID:700-1678233600-1678319999@rccgmountzion.org
SUMMARY:Oasis service
DESCRIPTION:
URL:https://rccgmountzion.org/event/oasis-service-9/
END:VEVENT
BEGIN:VEVENT
DTSTART;VALUE=DATE:20230304
DTEND;VALUE=DATE:20230305
DTSTAMP:20260425T133316
CREATED:20230119T195941Z
LAST-MODIFIED:20230119T195941Z
UID:698-1677888000-1677974399@rccgmountzion.org
SUMMARY:Spring cleaning Water Baptism
DESCRIPTION:
URL:https://rccgmountzion.org/event/spring-cleaning-water-baptism/
END:VEVENT
BEGIN:VEVENT
DTSTART;VALUE=DATE:20230301
DTEND;VALUE=DATE:20230302
DTSTAMP:20260425T133316
CREATED:20230119T195928Z
LAST-MODIFIED:20230119T195928Z
UID:696-1677628800-1677715199@rccgmountzion.org
SUMMARY:Oasis service RCCG Worldwide 50 days Fasting ends
DESCRIPTION:
URL:https://rccgmountzion.org/event/oasis-service-rccg-worldwide-50-days-fasting-ends/
END:VEVENT
BEGIN:VEVENT
DTSTART;VALUE=DATE:20230226
DTEND;VALUE=DATE:20230227
DTSTAMP:20260425T133316
CREATED:20230119T195804Z
LAST-MODIFIED:20230119T195804Z
UID:694-1677369600-1677455999@rccgmountzion.org
SUMMARY:Parents/Mentors Zoom call
DESCRIPTION:
URL:https://rccgmountzion.org/event/parents-mentors-zoom-call/
END:VEVENT
BEGIN:VEVENT
DTSTART;VALUE=DATE:20230225
DTEND;VALUE=DATE:20230226
DTSTAMP:20260425T133316
CREATED:20230119T195750Z
LAST-MODIFIED:20230119T195750Z
UID:692-1677283200-1677369599@rccgmountzion.org
SUMMARY:Sunday school Teacher Training
DESCRIPTION:
URL:https://rccgmountzion.org/event/sunday-school-teacher-training/
END:VEVENT
BEGIN:VEVENT
DTSTART;VALUE=DATE:20230222
DTEND;VALUE=DATE:20230223
DTSTAMP:20260425T133316
CREATED:20230119T195736Z
LAST-MODIFIED:20230119T195736Z
UID:690-1677024000-1677110399@rccgmountzion.org
SUMMARY:Ideas Rule the world @ Oasis service
DESCRIPTION:
URL:https://rccgmountzion.org/event/ideas-rule-the-world-oasis-service-4/
END:VEVENT
BEGIN:VEVENT
DTSTART;VALUE=DATE:20230220
DTEND;VALUE=DATE:20230221
DTSTAMP:20260425T133316
CREATED:20230119T195720Z
LAST-MODIFIED:20230119T195720Z
UID:688-1676851200-1676937599@rccgmountzion.org
SUMMARY:President's Day
DESCRIPTION:
URL:https://rccgmountzion.org/event/presidents-day-2/
END:VEVENT
BEGIN:VEVENT
DTSTART;VALUE=DATE:20230219
DTEND;VALUE=DATE:20230220
DTSTAMP:20260425T133316
CREATED:20230119T195707Z
LAST-MODIFIED:20230119T195707Z
UID:686-1676764800-1676851199@rccgmountzion.org
SUMMARY:From This Day Forward
DESCRIPTION:
URL:https://rccgmountzion.org/event/from-this-day-forward/
END:VEVENT
BEGIN:VEVENT
DTSTART;VALUE=DATE:20230215
DTEND;VALUE=DATE:20230216
DTSTAMP:20260425T133316
CREATED:20230119T195651Z
LAST-MODIFIED:20230119T195651Z
UID:684-1676419200-1676505599@rccgmountzion.org
SUMMARY:Ideas Rule the world @ Oasis service
DESCRIPTION:
URL:https://rccgmountzion.org/event/ideas-rule-the-world-oasis-service-3/
END:VEVENT
BEGIN:VEVENT
DTSTART;VALUE=DATE:20230212
DTEND;VALUE=DATE:20230213
DTSTAMP:20260425T133316
CREATED:20230119T195605Z
LAST-MODIFIED:20230119T195638Z
UID:682-1676160000-1676246399@rccgmountzion.org
SUMMARY:Sunday School Day
DESCRIPTION:
URL:https://rccgmountzion.org/event/sunday-school-day/
END:VEVENT
BEGIN:VEVENT
DTSTART;VALUE=DATE:20230208
DTEND;VALUE=DATE:20230209
DTSTAMP:20260425T133316
CREATED:20230119T195552Z
LAST-MODIFIED:20230119T195552Z
UID:680-1675814400-1675900799@rccgmountzion.org
SUMMARY:Ideas Rule the world @ Oasis service
DESCRIPTION:
URL:https://rccgmountzion.org/event/ideas-rule-the-world-oasis-service-2/
END:VEVENT
BEGIN:VEVENT
DTSTART;VALUE=DATE:20230204
DTEND;VALUE=DATE:20230205
DTSTAMP:20260425T133316
CREATED:20230119T195539Z
LAST-MODIFIED:20230119T195539Z
UID:678-1675468800-1675555199@rccgmountzion.org
SUMMARY:KICON mentor training & Retreat
DESCRIPTION:
URL:https://rccgmountzion.org/event/kicon-mentor-training-retreat/
END:VEVENT
BEGIN:VEVENT
DTSTART;VALUE=DATE:20230203
DTEND;VALUE=DATE:20230204
DTSTAMP:20260425T133316
CREATED:20230119T195524Z
LAST-MODIFIED:20230119T195524Z
UID:676-1675382400-1675468799@rccgmountzion.org
SUMMARY:Night Vigil KICON mentor training & retreat
DESCRIPTION:
URL:https://rccgmountzion.org/event/night-vigil-kicon-mentor-training-retreat/
END:VEVENT
BEGIN:VEVENT
DTSTART;VALUE=DATE:20230201
DTEND;VALUE=DATE:20230202
DTSTAMP:20260425T133316
CREATED:20230119T195511Z
LAST-MODIFIED:20230119T195511Z
UID:674-1675209600-1675295999@rccgmountzion.org
SUMMARY:Ideas Rule the world @ Oasis service
DESCRIPTION:
URL:https://rccgmountzion.org/event/ideas-rule-the-world-oasis-service/
END:VEVENT
BEGIN:VEVENT
DTSTART;VALUE=DATE:20230127
DTEND;VALUE=DATE:20230128
DTSTAMP:20260425T133316
CREATED:20230119T195402Z
LAST-MODIFIED:20230119T195402Z
UID:672-1674777600-1674863999@rccgmountzion.org
SUMMARY:DOZ Night Vigil
DESCRIPTION:
URL:https://rccgmountzion.org/event/doz-night-vigil-2/
END:VEVENT
BEGIN:VEVENT
DTSTART;VALUE=DATE:20230125
DTEND;VALUE=DATE:20230126
DTSTAMP:20260425T133316
CREATED:20230119T195350Z
LAST-MODIFIED:20230119T195350Z
UID:670-1674604800-1674691199@rccgmountzion.org
SUMMARY:Oasis service
DESCRIPTION:
URL:https://rccgmountzion.org/event/oasis-service-8/
END:VEVENT
BEGIN:VEVENT
DTSTART;VALUE=DATE:20230121
DTEND;VALUE=DATE:20230122
DTSTAMP:20260425T133316
CREATED:20230119T195334Z
LAST-MODIFIED:20230119T195334Z
UID:668-1674259200-1674345599@rccgmountzion.org
SUMMARY:Kingdom builders’ Leadership Training
DESCRIPTION:
URL:https://rccgmountzion.org/event/kingdom-builders-leadership-training/
END:VEVENT
BEGIN:VEVENT
DTSTART;VALUE=DATE:20230118
DTEND;VALUE=DATE:20230119
DTSTAMP:20260425T133316
CREATED:20230119T195321Z
LAST-MODIFIED:20230119T195321Z
UID:666-1674000000-1674086399@rccgmountzion.org
SUMMARY:Communion service
DESCRIPTION:
URL:https://rccgmountzion.org/event/communion-service/
END:VEVENT
BEGIN:VEVENT
DTSTART;VALUE=DATE:20230116
DTEND;VALUE=DATE:20230117
DTSTAMP:20260425T133316
CREATED:20230119T195307Z
LAST-MODIFIED:20230119T195307Z
UID:664-1673827200-1673913599@rccgmountzion.org
SUMMARY:M L King Day
DESCRIPTION:
URL:https://rccgmountzion.org/event/m-l-king-day-2/
END:VEVENT
END:VCALENDAR