BEGIN:VCALENDAR
VERSION:2.0
PRODID:-//Mount Zion Parish - ECPv6.15.18//NONSGML v1.0//EN
CALSCALE:GREGORIAN
METHOD:PUBLISH
X-WR-CALNAME:Mount Zion Parish
X-ORIGINAL-URL:https://rccgmountzion.org
X-WR-CALDESC:Events for Mount Zion Parish
REFRESH-INTERVAL;VALUE=DURATION:PT1H
X-Robots-Tag:noindex
X-PUBLISHED-TTL:PT1H
BEGIN:VTIMEZONE
TZID:UTC
BEGIN:STANDARD
TZOFFSETFROM:+0000
TZOFFSETTO:+0000
TZNAME:UTC
DTSTART:20220101T000000
END:STANDARD
END:VTIMEZONE
BEGIN:VEVENT
DTSTART;VALUE=DATE:20230628
DTEND;VALUE=DATE:20230629
DTSTAMP:20260425T144041
CREATED:20230119T201134Z
LAST-MODIFIED:20230119T201134Z
UID:794-1687910400-1687996799@rccgmountzion.org
SUMMARY:Oasis service
DESCRIPTION:
URL:https://rccgmountzion.org/event/oasis-service-17/
END:VEVENT
BEGIN:VEVENT
DTSTART;VALUE=DATE:20230624
DTEND;VALUE=DATE:20230625
DTSTAMP:20260425T144041
CREATED:20230119T201121Z
LAST-MODIFIED:20230119T201121Z
UID:792-1687564800-1687651199@rccgmountzion.org
SUMMARY:KICON summer outing
DESCRIPTION:
URL:https://rccgmountzion.org/event/kicon-summer-outing-3/
END:VEVENT
BEGIN:VEVENT
DTSTART;VALUE=DATE:20230623
DTEND;VALUE=DATE:20230624
DTSTAMP:20260425T144041
CREATED:20230119T201107Z
LAST-MODIFIED:20230119T201107Z
UID:790-1687478400-1687564799@rccgmountzion.org
SUMMARY:KICON summer outing
DESCRIPTION:
URL:https://rccgmountzion.org/event/kicon-summer-outing-2/
END:VEVENT
BEGIN:VEVENT
DTSTART;VALUE=DATE:20230622
DTEND;VALUE=DATE:20230623
DTSTAMP:20260425T144041
CREATED:20230119T201053Z
LAST-MODIFIED:20230119T201053Z
UID:788-1687392000-1687478399@rccgmountzion.org
SUMMARY:KICON summer outing
DESCRIPTION:
URL:https://rccgmountzion.org/event/kicon-summer-outing/
END:VEVENT
BEGIN:VEVENT
DTSTART;VALUE=DATE:20230621
DTEND;VALUE=DATE:20230622
DTSTAMP:20260425T144041
CREATED:20230119T201040Z
LAST-MODIFIED:20230119T201040Z
UID:786-1687305600-1687391999@rccgmountzion.org
SUMMARY:Communion @ Oasis service
DESCRIPTION:
URL:https://rccgmountzion.org/event/communion-oasis-service-4/
END:VEVENT
BEGIN:VEVENT
DTSTART;VALUE=DATE:20230618
DTEND;VALUE=DATE:20230619
DTSTAMP:20260425T144041
CREATED:20230119T201003Z
LAST-MODIFIED:20230119T201003Z
UID:783-1687046400-1687132799@rccgmountzion.org
SUMMARY:Father’s Day Thanksgiving
DESCRIPTION:
URL:https://rccgmountzion.org/event/fathers-day-thanksgiving/
END:VEVENT
BEGIN:VEVENT
DTSTART;VALUE=DATE:20230614
DTEND;VALUE=DATE:20230615
DTSTAMP:20260425T144041
CREATED:20230119T200950Z
LAST-MODIFIED:20230119T200950Z
UID:781-1686700800-1686787199@rccgmountzion.org
SUMMARY:Oasis service
DESCRIPTION:
URL:https://rccgmountzion.org/event/oasis-service-16/
END:VEVENT
BEGIN:VEVENT
DTSTART;VALUE=DATE:20230609
DTEND;VALUE=DATE:20230610
DTSTAMP:20260425T144041
CREATED:20230119T200936Z
LAST-MODIFIED:20230119T200936Z
UID:779-1686268800-1686355199@rccgmountzion.org
SUMMARY:RCCGNA Light Up Atlanta
DESCRIPTION:
URL:https://rccgmountzion.org/event/rccgna-light-up-atlanta/
END:VEVENT
BEGIN:VEVENT
DTSTART;VALUE=DATE:20230607
DTEND;VALUE=DATE:20230608
DTSTAMP:20260425T144041
CREATED:20230119T200921Z
LAST-MODIFIED:20230119T200921Z
UID:777-1686096000-1686182399@rccgmountzion.org
SUMMARY:Oasis service
DESCRIPTION:
URL:https://rccgmountzion.org/event/oasis-service-15/
END:VEVENT
BEGIN:VEVENT
DTSTART;VALUE=DATE:20230603
DTEND;VALUE=DATE:20230604
DTSTAMP:20260425T144041
CREATED:20230119T200908Z
LAST-MODIFIED:20230119T200908Z
UID:775-1685750400-1685836799@rccgmountzion.org
SUMMARY:Fasting and Prayers Water Baptism
DESCRIPTION:
URL:https://rccgmountzion.org/event/fasting-and-prayers-water-baptism/
END:VEVENT
BEGIN:VEVENT
DTSTART;VALUE=DATE:20230602
DTEND;VALUE=DATE:20230603
DTSTAMP:20260425T144041
CREATED:20230119T200853Z
LAST-MODIFIED:20230119T200853Z
UID:773-1685664000-1685750399@rccgmountzion.org
SUMMARY:Fasting and Prayers
DESCRIPTION:
URL:https://rccgmountzion.org/event/fasting-and-prayers-5/
END:VEVENT
BEGIN:VEVENT
DTSTART;VALUE=DATE:20230601
DTEND;VALUE=DATE:20230602
DTSTAMP:20260425T144041
CREATED:20230119T200841Z
LAST-MODIFIED:20230119T200841Z
UID:771-1685577600-1685663999@rccgmountzion.org
SUMMARY:Fasting and Prayers
DESCRIPTION:
URL:https://rccgmountzion.org/event/fasting-and-prayers-4/
END:VEVENT
BEGIN:VEVENT
DTSTART;VALUE=DATE:20230531
DTEND;VALUE=DATE:20230601
DTSTAMP:20260425T144041
CREATED:20230119T200825Z
LAST-MODIFIED:20230119T200825Z
UID:769-1685491200-1685577599@rccgmountzion.org
SUMMARY:Oasis service
DESCRIPTION:
URL:https://rccgmountzion.org/event/oasis-service-14/
END:VEVENT
BEGIN:VEVENT
DTSTART;VALUE=DATE:20230529
DTEND;VALUE=DATE:20230530
DTSTAMP:20260425T144041
CREATED:20230119T200812Z
LAST-MODIFIED:20230119T200812Z
UID:767-1685318400-1685404799@rccgmountzion.org
SUMMARY:Memorial Day
DESCRIPTION:
URL:https://rccgmountzion.org/event/memorial-day-2/
END:VEVENT
BEGIN:VEVENT
DTSTART;VALUE=DATE:20230524
DTEND;VALUE=DATE:20230525
DTSTAMP:20260425T144041
CREATED:20230119T200755Z
LAST-MODIFIED:20230119T200755Z
UID:765-1684886400-1684972799@rccgmountzion.org
SUMMARY:Communion @ Oasis service
DESCRIPTION:
URL:https://rccgmountzion.org/event/communion-oasis-service-3/
END:VEVENT
BEGIN:VEVENT
DTSTART;VALUE=DATE:20230521
DTEND;VALUE=DATE:20230522
DTSTAMP:20260425T144041
CREATED:20230119T200737Z
LAST-MODIFIED:20230119T200737Z
UID:763-1684627200-1684713599@rccgmountzion.org
SUMMARY:From This Day Forward
DESCRIPTION:
URL:https://rccgmountzion.org/event/from-this-day-forward-3/
END:VEVENT
BEGIN:VEVENT
DTSTART;VALUE=DATE:20230517
DTEND;VALUE=DATE:20230518
DTSTAMP:20260425T144041
CREATED:20230119T200724Z
LAST-MODIFIED:20230119T200724Z
UID:761-1684281600-1684367999@rccgmountzion.org
SUMMARY:Word Conference @ Oasis service
DESCRIPTION:
URL:https://rccgmountzion.org/event/word-conference-oasis-service-3/
END:VEVENT
BEGIN:VEVENT
DTSTART;VALUE=DATE:20230514
DTEND;VALUE=DATE:20230515
DTSTAMP:20260425T144041
CREATED:20230119T200710Z
LAST-MODIFIED:20230119T200710Z
UID:759-1684022400-1684108799@rccgmountzion.org
SUMMARY:Mother’s day
DESCRIPTION:
URL:https://rccgmountzion.org/event/mothers-day/
END:VEVENT
BEGIN:VEVENT
DTSTART;VALUE=DATE:20230513
DTEND;VALUE=DATE:20230514
DTSTAMP:20260425T144041
CREATED:20230119T200656Z
LAST-MODIFIED:20230119T200656Z
UID:757-1683936000-1684022399@rccgmountzion.org
SUMMARY:Mother’s Day Weekend
DESCRIPTION:
URL:https://rccgmountzion.org/event/mothers-day-weekend-5/
END:VEVENT
BEGIN:VEVENT
DTSTART;VALUE=DATE:20230512
DTEND;VALUE=DATE:20230513
DTSTAMP:20260425T144041
CREATED:20230119T200644Z
LAST-MODIFIED:20230119T200644Z
UID:755-1683849600-1683935999@rccgmountzion.org
SUMMARY:Mother’s Day Weekend
DESCRIPTION:
URL:https://rccgmountzion.org/event/mothers-day-weekend-4/
END:VEVENT
BEGIN:VEVENT
DTSTART;VALUE=DATE:20230511
DTEND;VALUE=DATE:20230512
DTSTAMP:20260425T144042
CREATED:20230119T200628Z
LAST-MODIFIED:20230119T200628Z
UID:752-1683763200-1683849599@rccgmountzion.org
SUMMARY:Mother’s Day Weekend
DESCRIPTION:
URL:https://rccgmountzion.org/event/mothers-day-weekend-3/
END:VEVENT
BEGIN:VEVENT
DTSTART;VALUE=DATE:20230510
DTEND;VALUE=DATE:20230511
DTSTAMP:20260425T144042
CREATED:20230119T200613Z
LAST-MODIFIED:20230119T200613Z
UID:750-1683676800-1683763199@rccgmountzion.org
SUMMARY:Word Conference @ Oasis service
DESCRIPTION:
URL:https://rccgmountzion.org/event/word-conference-oasis-service-2/
END:VEVENT
BEGIN:VEVENT
DTSTART;VALUE=DATE:20230505
DTEND;VALUE=DATE:20230506
DTSTAMP:20260425T144042
CREATED:20230119T200558Z
LAST-MODIFIED:20230119T200558Z
UID:748-1683244800-1683331199@rccgmountzion.org
SUMMARY:Night Vigil
DESCRIPTION:
URL:https://rccgmountzion.org/event/night-vigil-2/
END:VEVENT
BEGIN:VEVENT
DTSTART;VALUE=DATE:20230503
DTEND;VALUE=DATE:20230504
DTSTAMP:20260425T144042
CREATED:20230119T200541Z
LAST-MODIFIED:20230119T200541Z
UID:746-1683072000-1683158399@rccgmountzion.org
SUMMARY:Word Conference @ Oasis service
DESCRIPTION:
URL:https://rccgmountzion.org/event/word-conference-oasis-service/
END:VEVENT
BEGIN:VEVENT
DTSTART;VALUE=DATE:20230502
DTEND;VALUE=DATE:20230503
DTSTAMP:20260425T144042
CREATED:20230119T200526Z
LAST-MODIFIED:20230119T200526Z
UID:744-1682985600-1683071999@rccgmountzion.org
SUMMARY:3 Days Fasting and Prayers
DESCRIPTION:
URL:https://rccgmountzion.org/event/3-days-fasting-and-prayers-2/
END:VEVENT
BEGIN:VEVENT
DTSTART;VALUE=DATE:20230501
DTEND;VALUE=DATE:20230502
DTSTAMP:20260425T144042
CREATED:20230119T200509Z
LAST-MODIFIED:20230119T200509Z
UID:742-1682899200-1682985599@rccgmountzion.org
SUMMARY:3 Days Fasting and Prayers
DESCRIPTION:
URL:https://rccgmountzion.org/event/3-days-fasting-and-prayers/
END:VEVENT
BEGIN:VEVENT
DTSTART;VALUE=DATE:20230430
DTEND;VALUE=DATE:20230501
DTSTAMP:20260425T144042
CREATED:20230119T200450Z
LAST-MODIFIED:20230119T200450Z
UID:740-1682812800-1682899199@rccgmountzion.org
SUMMARY:Jesus’ second coming 2 Peter 3:  10-12 (NIV)
DESCRIPTION:
URL:https://rccgmountzion.org/event/jesus-second-coming-2-peter-3-10-12-niv/
END:VEVENT
BEGIN:VEVENT
DTSTART;VALUE=DATE:20230429
DTEND;VALUE=DATE:20230430
DTSTAMP:20260425T144042
CREATED:20230119T200437Z
LAST-MODIFIED:20230119T200437Z
UID:738-1682726400-1682812799@rccgmountzion.org
SUMMARY:DOZ Workshop
DESCRIPTION:
URL:https://rccgmountzion.org/event/doz-workshop/
END:VEVENT
BEGIN:VEVENT
DTSTART;VALUE=DATE:20230423
DTEND;VALUE=DATE:20230424
DTSTAMP:20260425T144042
CREATED:20230119T200424Z
LAST-MODIFIED:20230119T200424Z
UID:736-1682208000-1682294399@rccgmountzion.org
SUMMARY:Children’s day
DESCRIPTION:
URL:https://rccgmountzion.org/event/childrens-day/
END:VEVENT
BEGIN:VEVENT
DTSTART;VALUE=DATE:20230422
DTEND;VALUE=DATE:20230423
DTSTAMP:20260425T144042
CREATED:20230119T200410Z
LAST-MODIFIED:20230119T200410Z
UID:734-1682121600-1682207999@rccgmountzion.org
SUMMARY:Family Connection Leadership Training
DESCRIPTION:
URL:https://rccgmountzion.org/event/family-connection-leadership-training/
END:VEVENT
END:VCALENDAR